BEGIN:VCALENDAR
VERSION:2.0
PRODID:-//Unity Palo Alto - ECPv6.15.20//NONSGML v1.0//EN
CALSCALE:GREGORIAN
METHOD:PUBLISH
X-WR-CALNAME:Unity Palo Alto
X-ORIGINAL-URL:https://unitypaloalto.org
X-WR-CALDESC:Events for Unity Palo Alto
REFRESH-INTERVAL;VALUE=DURATION:PT1H
X-Robots-Tag:noindex
X-PUBLISHED-TTL:PT1H
BEGIN:VTIMEZONE
TZID:America/Los_Angeles
BEGIN:DAYLIGHT
TZOFFSETFROM:-0800
TZOFFSETTO:-0700
TZNAME:PDT
DTSTART:20210314T100000
END:DAYLIGHT
BEGIN:STANDARD
TZOFFSETFROM:-0700
TZOFFSETTO:-0800
TZNAME:PST
DTSTART:20211107T090000
END:STANDARD
BEGIN:DAYLIGHT
TZOFFSETFROM:-0800
TZOFFSETTO:-0700
TZNAME:PDT
DTSTART:20220313T100000
END:DAYLIGHT
BEGIN:STANDARD
TZOFFSETFROM:-0700
TZOFFSETTO:-0800
TZNAME:PST
DTSTART:20221106T090000
END:STANDARD
BEGIN:DAYLIGHT
TZOFFSETFROM:-0800
TZOFFSETTO:-0700
TZNAME:PDT
DTSTART:20230312T100000
END:DAYLIGHT
BEGIN:STANDARD
TZOFFSETFROM:-0700
TZOFFSETTO:-0800
TZNAME:PST
DTSTART:20231105T090000
END:STANDARD
END:VTIMEZONE
BEGIN:VEVENT
DTSTART;TZID=America/Los_Angeles:20220802T190000
DTEND;TZID=America/Los_Angeles:20220802T203000
DTSTAMP:20260425T131245
CREATED:20220608T183142Z
LAST-MODIFIED:20220807T151121Z
UID:10000064-1659466800-1659472200@unitypaloalto.org
SUMMARY:The Keys to the Kingdom
DESCRIPTION:An Advanced Course\nin Prosperity Consciousness Building\nWith Rev. John Riley at Unity Palo Alto & on Zoom (hybrid)\nTuesdays\, 7/12-8/30 @ 7:00-8:30 pm (skipping 8/9)\nCost: $24.00 Materials Fee and a Love Offering during each class\nRegistration closed. \nAbundance is your spiritual birthright. You do not have to earn it or prove you are worthy of this great gift…Wouldn’t you love to embrace and believe this statement as the absolute truth about your life? During the Keys to the Kingdom seven-week prosperity course\, you will gain: \n\nA new vision of your highest potential and a greater sense of personal power.\nA new understanding of spiritual law and your partnership with Spirit.\nA greater appreciation for the goodness of life and freedom from the past.\nA new way of living that will keep you in the flow of true abundance.\n\nThe “Keys” course uses an audio program and workbook to teach the spiritual tools of affirmative prayer\, vision\, forgiveness\, proactive gratitude\, affirmations and journaling to strengthen your creative partnership with Spirit. \nThere is no weekly fee for Keys. However\, there is a $24 cost for materials\, and participants must tithe 10% each of time\, talent\, and income throughout the program. Preregistration is required with a signed commitment form.  If you do not already have the audio program and workbook\, please go to newthoughtsforliving.com to purchase them. \n\nAudio Program ($14)\nWorkbook – either printable or ebook ($10)
URL:https://unitypaloalto.org/event/the-keys-to-the-kingdom/2022-08-02/
LOCATION:California
CATEGORIES:activity-hybrid
ATTACH;FMTTYPE=image/png:https://unitypaloalto.org/wp-content/uploads/KeysWebCal-320x188-1.png
END:VEVENT
BEGIN:VEVENT
DTSTART;TZID=America/Los_Angeles:20220814T110000
DTEND;TZID=America/Los_Angeles:20220814T113000
DTSTAMP:20260425T131245
CREATED:20201205T185917Z
LAST-MODIFIED:20240114T193300Z
UID:10000234-1660474800-1660476600@unitypaloalto.org
SUMMARY:Unity Palo Alto Prayer Service
DESCRIPTION:Every 2nd Sunday after the service we come together in affirmative prayer. Infuse our community prayer requests with love and blessings before we send them off to Silent Unity\, where they will be held in prayer for 30 days. This meditation service led by Casey Wicker\, Licensed Unity Teacher\, is the same sacred practice used by Silent Unity. One heart\, one voice in prayer\, affirming the light within. \nhttps://us02web.zoom.us/j/87553851032?pwd=VDJRNGQ1bWZmTlFxRXNCK01NUXZWQT09 \n(Note: This is the same zoom meeting for the Sunday Zoom Experience)
URL:https://unitypaloalto.org/event/47865/2022-08-14/
LOCATION:California
CATEGORIES:Activity,activity-hybrid
ATTACH;FMTTYPE=image/png:https://unitypaloalto.org/wp-content/uploads/PrayerService.png
END:VEVENT
BEGIN:VEVENT
DTSTART;TZID=America/Los_Angeles:20220814T123000
DTEND;TZID=America/Los_Angeles:20220814T150000
DTSTAMP:20260425T131245
CREATED:20220708T181754Z
LAST-MODIFIED:20220810T215143Z
UID:10000079-1660480200-1660489200@unitypaloalto.org
SUMMARY:The Stories We Tell Ourselves
DESCRIPTION:With Gregg Levoy\, author & speaker\nHands-on workshop in person and on Zoom\n$30 registration fee\nRegister at: https://www.eventbrite.com/e/the-stories-we-tell-ourselves-tickets-381871035547 \nGregg is also our guest speaker for the Sunday Service @ 10:00 – 11:00 \nWe’re storytelling animals\, and we create stories to help us make sense of life and give us a framework for our decisions\, whether personal\, professional or spiritual. \nBut those stories can sometimes turn on us—especially the negative ones—and become self-limiting when they come up against life’s primary goal: Grow. And when they become lies of identity—I am what I do\, I am what I have\, I am what other people think of me. \nStories become opinions become beliefs become behaviors. We don’t just tell stories—they tell us. And until the core perceptions at the heart of our stories are confronted\, and perhaps deconstructed or updated\, the behavior that grows out of them won’t change. \nThis presentation—part service talk and part hands-on workshop—is designed to help you identify and reconsider the stories you tell yourself. We’ll work to separate fact from fiction\, emphasize the positive in our stories\, and understand that they don’t keep replaying themselves to torment us but to offer us opportunities to heal and grow. The soul’s agenda is not punishment but healing.
URL:https://unitypaloalto.org/event/the-stories-we-tell-ourselves/
LOCATION:California
CATEGORIES:activity-hybrid,home-feature
ATTACH;FMTTYPE=image/png:https://unitypaloalto.org/wp-content/uploads/3C74CC70-161A-470F-BFAA-33B30CEA8114.png
END:VEVENT
BEGIN:VEVENT
DTSTART;TZID=America/Los_Angeles:20220816T190000
DTEND;TZID=America/Los_Angeles:20220816T203000
DTSTAMP:20260425T131245
CREATED:20220608T183142Z
LAST-MODIFIED:20220807T151121Z
UID:10000065-1660676400-1660681800@unitypaloalto.org
SUMMARY:The Keys to the Kingdom
DESCRIPTION:An Advanced Course\nin Prosperity Consciousness Building\nWith Rev. John Riley at Unity Palo Alto & on Zoom (hybrid)\nTuesdays\, 7/12-8/30 @ 7:00-8:30 pm (skipping 8/9)\nCost: $24.00 Materials Fee and a Love Offering during each class\nRegistration closed. \nAbundance is your spiritual birthright. You do not have to earn it or prove you are worthy of this great gift…Wouldn’t you love to embrace and believe this statement as the absolute truth about your life? During the Keys to the Kingdom seven-week prosperity course\, you will gain: \n\nA new vision of your highest potential and a greater sense of personal power.\nA new understanding of spiritual law and your partnership with Spirit.\nA greater appreciation for the goodness of life and freedom from the past.\nA new way of living that will keep you in the flow of true abundance.\n\nThe “Keys” course uses an audio program and workbook to teach the spiritual tools of affirmative prayer\, vision\, forgiveness\, proactive gratitude\, affirmations and journaling to strengthen your creative partnership with Spirit. \nThere is no weekly fee for Keys. However\, there is a $24 cost for materials\, and participants must tithe 10% each of time\, talent\, and income throughout the program. Preregistration is required with a signed commitment form.  If you do not already have the audio program and workbook\, please go to newthoughtsforliving.com to purchase them. \n\nAudio Program ($14)\nWorkbook – either printable or ebook ($10)
URL:https://unitypaloalto.org/event/the-keys-to-the-kingdom/2022-08-16/
LOCATION:California
CATEGORIES:activity-hybrid
ATTACH;FMTTYPE=image/png:https://unitypaloalto.org/wp-content/uploads/KeysWebCal-320x188-1.png
END:VEVENT
BEGIN:VEVENT
DTSTART;TZID=America/Los_Angeles:20220821T113000
DTEND;TZID=America/Los_Angeles:20220821T123000
DTSTAMP:20260425T131245
CREATED:20220803T192852Z
LAST-MODIFIED:20220823T183734Z
UID:10000080-1661081400-1661085000@unitypaloalto.org
SUMMARY:Richard & Imogene Hilbers Celebration of Life Service
DESCRIPTION:During the pandemic\, our dear friends and long-time members\, Richard & Imogene Hilbers made their transition. On Sunday\, August 21\, at 11:30 am we come together to remember\, honor\, and celebrate their life. Please join us in person or online at https://unitypaloalto.org/live for this celebration. \nDonations in Imogene and Richard’s honor may be directed toward Unity Palo Alto Spiritual Center. \nWe would really appreciate receiving pictures and memories of Imogene and Dick to share with everyone at the service. Please send them and any questions to Ann Heile at ann.heile@gmail.com or 408-691-1724.
URL:https://unitypaloalto.org/event/hilbers-celebration-of-life/
LOCATION:At Unity Palo Alto\, 3391 Middlefield Road\, Palo Alto\, CA\, 94306\, United States
CATEGORIES:activity-hybrid,home-feature
GEO:37.4269437;-122.118048
X-APPLE-STRUCTURED-LOCATION;VALUE=URI;X-ADDRESS=At Unity Palo Alto 3391 Middlefield Road Palo Alto CA 94306 United States;X-APPLE-RADIUS=500;X-TITLE=3391 Middlefield Road:geo:-122.118048,37.4269437
END:VEVENT
BEGIN:VEVENT
DTSTART;TZID=America/Los_Angeles:20220823T190000
DTEND;TZID=America/Los_Angeles:20220823T203000
DTSTAMP:20260425T131245
CREATED:20220608T183142Z
LAST-MODIFIED:20220807T151121Z
UID:10000066-1661281200-1661286600@unitypaloalto.org
SUMMARY:The Keys to the Kingdom
DESCRIPTION:An Advanced Course\nin Prosperity Consciousness Building\nWith Rev. John Riley at Unity Palo Alto & on Zoom (hybrid)\nTuesdays\, 7/12-8/30 @ 7:00-8:30 pm (skipping 8/9)\nCost: $24.00 Materials Fee and a Love Offering during each class\nRegistration closed. \nAbundance is your spiritual birthright. You do not have to earn it or prove you are worthy of this great gift…Wouldn’t you love to embrace and believe this statement as the absolute truth about your life? During the Keys to the Kingdom seven-week prosperity course\, you will gain: \n\nA new vision of your highest potential and a greater sense of personal power.\nA new understanding of spiritual law and your partnership with Spirit.\nA greater appreciation for the goodness of life and freedom from the past.\nA new way of living that will keep you in the flow of true abundance.\n\nThe “Keys” course uses an audio program and workbook to teach the spiritual tools of affirmative prayer\, vision\, forgiveness\, proactive gratitude\, affirmations and journaling to strengthen your creative partnership with Spirit. \nThere is no weekly fee for Keys. However\, there is a $24 cost for materials\, and participants must tithe 10% each of time\, talent\, and income throughout the program. Preregistration is required with a signed commitment form.  If you do not already have the audio program and workbook\, please go to newthoughtsforliving.com to purchase them. \n\nAudio Program ($14)\nWorkbook – either printable or ebook ($10)
URL:https://unitypaloalto.org/event/the-keys-to-the-kingdom/2022-08-23/
LOCATION:California
CATEGORIES:activity-hybrid
ATTACH;FMTTYPE=image/png:https://unitypaloalto.org/wp-content/uploads/KeysWebCal-320x188-1.png
END:VEVENT
BEGIN:VEVENT
DTSTART;TZID=America/Los_Angeles:20220830T190000
DTEND;TZID=America/Los_Angeles:20220830T203000
DTSTAMP:20260425T131245
CREATED:20220608T183142Z
LAST-MODIFIED:20220807T151121Z
UID:10000067-1661886000-1661891400@unitypaloalto.org
SUMMARY:The Keys to the Kingdom
DESCRIPTION:An Advanced Course\nin Prosperity Consciousness Building\nWith Rev. John Riley at Unity Palo Alto & on Zoom (hybrid)\nTuesdays\, 7/12-8/30 @ 7:00-8:30 pm (skipping 8/9)\nCost: $24.00 Materials Fee and a Love Offering during each class\nRegistration closed. \nAbundance is your spiritual birthright. You do not have to earn it or prove you are worthy of this great gift…Wouldn’t you love to embrace and believe this statement as the absolute truth about your life? During the Keys to the Kingdom seven-week prosperity course\, you will gain: \n\nA new vision of your highest potential and a greater sense of personal power.\nA new understanding of spiritual law and your partnership with Spirit.\nA greater appreciation for the goodness of life and freedom from the past.\nA new way of living that will keep you in the flow of true abundance.\n\nThe “Keys” course uses an audio program and workbook to teach the spiritual tools of affirmative prayer\, vision\, forgiveness\, proactive gratitude\, affirmations and journaling to strengthen your creative partnership with Spirit. \nThere is no weekly fee for Keys. However\, there is a $24 cost for materials\, and participants must tithe 10% each of time\, talent\, and income throughout the program. Preregistration is required with a signed commitment form.  If you do not already have the audio program and workbook\, please go to newthoughtsforliving.com to purchase them. \n\nAudio Program ($14)\nWorkbook – either printable or ebook ($10)
URL:https://unitypaloalto.org/event/the-keys-to-the-kingdom/2022-08-30/
LOCATION:California
CATEGORIES:activity-hybrid
ATTACH;FMTTYPE=image/png:https://unitypaloalto.org/wp-content/uploads/KeysWebCal-320x188-1.png
END:VEVENT
END:VCALENDAR