BEGIN:VCALENDAR
VERSION:2.0
PRODID:-//Unity Palo Alto - ECPv6.15.20//NONSGML v1.0//EN
CALSCALE:GREGORIAN
METHOD:PUBLISH
X-ORIGINAL-URL:https://unitypaloalto.org
X-WR-CALDESC:Events for Unity Palo Alto
REFRESH-INTERVAL;VALUE=DURATION:PT1H
X-Robots-Tag:noindex
X-PUBLISHED-TTL:PT1H
BEGIN:VTIMEZONE
TZID:America/Los_Angeles
BEGIN:DAYLIGHT
TZOFFSETFROM:-0800
TZOFFSETTO:-0700
TZNAME:PDT
DTSTART:20220313T100000
END:DAYLIGHT
BEGIN:STANDARD
TZOFFSETFROM:-0700
TZOFFSETTO:-0800
TZNAME:PST
DTSTART:20221106T090000
END:STANDARD
BEGIN:DAYLIGHT
TZOFFSETFROM:-0800
TZOFFSETTO:-0700
TZNAME:PDT
DTSTART:20230312T100000
END:DAYLIGHT
BEGIN:STANDARD
TZOFFSETFROM:-0700
TZOFFSETTO:-0800
TZNAME:PST
DTSTART:20231105T090000
END:STANDARD
BEGIN:DAYLIGHT
TZOFFSETFROM:-0800
TZOFFSETTO:-0700
TZNAME:PDT
DTSTART:20240310T100000
END:DAYLIGHT
BEGIN:STANDARD
TZOFFSETFROM:-0700
TZOFFSETTO:-0800
TZNAME:PST
DTSTART:20241103T090000
END:STANDARD
END:VTIMEZONE
BEGIN:VEVENT
DTSTART;TZID=America/Los_Angeles:20230126T183000
DTEND;TZID=America/Los_Angeles:20230126T203000
DTSTAMP:20260425T204353
CREATED:20230108T061345Z
LAST-MODIFIED:20230214T172240Z
UID:10000955-1674757800-1674765000@unitypaloalto.org
SUMMARY:The Art of Quantum Living
DESCRIPTION:A hybrid 6-week class with Rev. John Riley\nThursdays 1/26 – 3/2 @ 6:30 pm – 8:30 pm\nMore information & Registration \nHave you ever wondered why it is that despite all you know about how to get along in the world\, despite the efforts you make in your home and work life\, and in your spiritual practices\, you may still not be seeing lasting results? \nThe Art of Quantum Living offers a powerful path to personal evolutionary transformation. \n\nPeel away limitations and discover the power of your authentic self\nReveal the hidden automatic behaviors that run your life\nTransform any situation into an opportunity to manifest magnificence\n\nMore information & Registration
URL:https://unitypaloalto.org/event/the-art-of-quantum-living/2023-01-26/
LOCATION:California
CATEGORIES:activity-hybrid
ATTACH;FMTTYPE=image/png:https://unitypaloalto.org/wp-content/uploads/quantumliving-artofq.png
END:VEVENT
END:VCALENDAR