BEGIN:VCALENDAR
VERSION:2.0
PRODID:-//Unity Palo Alto - ECPv6.15.20//NONSGML v1.0//EN
CALSCALE:GREGORIAN
METHOD:PUBLISH
X-ORIGINAL-URL:https://unitypaloalto.org
X-WR-CALDESC:Events for Unity Palo Alto
REFRESH-INTERVAL;VALUE=DURATION:PT1H
X-Robots-Tag:noindex
X-PUBLISHED-TTL:PT1H
BEGIN:VTIMEZONE
TZID:America/Los_Angeles
BEGIN:DAYLIGHT
TZOFFSETFROM:-0800
TZOFFSETTO:-0700
TZNAME:PDT
DTSTART:20250309T100000
END:DAYLIGHT
BEGIN:STANDARD
TZOFFSETFROM:-0700
TZOFFSETTO:-0800
TZNAME:PST
DTSTART:20251102T090000
END:STANDARD
BEGIN:DAYLIGHT
TZOFFSETFROM:-0800
TZOFFSETTO:-0700
TZNAME:PDT
DTSTART:20260308T100000
END:DAYLIGHT
BEGIN:STANDARD
TZOFFSETFROM:-0700
TZOFFSETTO:-0800
TZNAME:PST
DTSTART:20261101T090000
END:STANDARD
BEGIN:DAYLIGHT
TZOFFSETFROM:-0800
TZOFFSETTO:-0700
TZNAME:PDT
DTSTART:20270314T100000
END:DAYLIGHT
BEGIN:STANDARD
TZOFFSETFROM:-0700
TZOFFSETTO:-0800
TZNAME:PST
DTSTART:20271107T090000
END:STANDARD
END:VTIMEZONE
BEGIN:VEVENT
DTSTART;TZID=America/Los_Angeles:20260419T090000
DTEND;TZID=America/Los_Angeles:20260419T093000
DTSTAMP:20260425T153948
CREATED:20260407T144841Z
LAST-MODIFIED:20260407T144843Z
UID:10001866-1776589200-1776591000@unitypaloalto.org
SUMMARY:Sunday Morning Meditation
DESCRIPTION:Begin your week centered\, focused\, and empowered at our Sunday Morning Meditation. \nJoin us Sunday Morning in the Fireside Room or Register for the Zoom. Our meditation leaders alternate between Moj Rasmi and Sue Skalina\, and Rev. John on the 4th Sunday of the month.
URL:https://unitypaloalto.org/event/sunday-morning-meditation-2/2026-04-19/
LOCATION:At the UPA Learning Center & on Zoom\, Middlefield Road\, Palo Alto\, CA\, 94306\, United States
CATEGORIES:Activity
ATTACH;FMTTYPE=image/jpeg:https://unitypaloalto.org/wp-content/uploads/Meditation-1.jpg
GEO:37.4267118;-122.1182989
X-APPLE-STRUCTURED-LOCATION;VALUE=URI;X-ADDRESS=At the UPA Learning Center & on Zoom Middlefield Road Palo Alto CA 94306 United States;X-APPLE-RADIUS=500;X-TITLE=Middlefield Road:geo:-122.1182989,37.4267118
END:VEVENT
BEGIN:VEVENT
DTSTART;TZID=America/Los_Angeles:20260419T113000
DTEND;TZID=America/Los_Angeles:20260419T113000
DTSTAMP:20260425T153948
CREATED:20260310T070735Z
LAST-MODIFIED:20260418T231335Z
UID:10005174-1776598200-1776598200@unitypaloalto.org
SUMMARY:Karen Drucker - Women's Playshop!
DESCRIPTION:
URL:https://unitypaloalto.org/event/karen-drucker-womens-playshop/
LOCATION:CA
CATEGORIES:Activity,home-feature,Women's Group
ATTACH;FMTTYPE=image/jpeg:https://unitypaloalto.org/wp-content/uploads/Karen-Drucker-Womens-Workshop-April-19.jpg
END:VEVENT
BEGIN:VEVENT
DTSTART;TZID=America/Los_Angeles:20260419T113000
DTEND;TZID=America/Los_Angeles:20260419T123000
DTSTAMP:20260425T153948
CREATED:20260416T155257Z
LAST-MODIFIED:20260419T005336Z
UID:10006854-1776598200-1776601800@unitypaloalto.org
SUMMARY:Men's Group Brainstorm
DESCRIPTION:With Rev. John Riley\nSunday\, 4/19 @ 11:30 am\, UPA \nI’d like to invite you to a Men’s Group Inquiry Circle—a simple\, open conversation to explore what kind of space men at Unity Palo Alto might truly want and need. \nThis is not about creating another obligation or work group.\nIt’s about connection\, authenticity\, and growth. \nA space where: \n\nYou can show up as you are\nReal conversations can happen\nAnd something meaningful can emerge—if there’s energy for it\n\nWe’ll begin with a short prayer\, share a few thoughts on what’s possible\, and then move into a speaking circle where every voice matters. \nThis gathering is simply a starting point.\nIf a men’s group is to take shape\, it will come from the interest\, energy\, and leadership of those in the room. \nJoin us after the service on Sunday\, 4/19 at 11:30 am. We will be either in the YES Hall or the Fireside Room (check the signs when you arrive). \nIf something in you is curious… or even just a quiet “yes”… I encourage you to come and be part of the conversation.
URL:https://unitypaloalto.org/event/mens-group-brainstorm/
LOCATION:At Unity Palo Alto\, 3391 Middlefield Road\, Palo Alto\, CA\, 94306\, United States
CATEGORIES:Activity
ATTACH;FMTTYPE=image/jpeg:https://unitypaloalto.org/wp-content/uploads/Mens-Group-Brainstorm-400.jpg
GEO:37.4269437;-122.118048
X-APPLE-STRUCTURED-LOCATION;VALUE=URI;X-ADDRESS=At Unity Palo Alto 3391 Middlefield Road Palo Alto CA 94306 United States;X-APPLE-RADIUS=500;X-TITLE=3391 Middlefield Road:geo:-122.118048,37.4269437
END:VEVENT
BEGIN:VEVENT
DTSTART;TZID=America/Los_Angeles:20260421T190000
DTEND;TZID=America/Los_Angeles:20260421T201500
DTSTAMP:20260425T153948
CREATED:20260120T193130Z
LAST-MODIFIED:20260416T143605Z
UID:10004728-1776798000-1776802500@unitypaloalto.org
SUMMARY:Tuesday Night Kundalini Yoga
DESCRIPTION:
URL:https://unitypaloalto.org/event/tuesday-night-yoga/2026-04-21/
LOCATION:At the UPA Fireside Room\, Middlefield Road\, Palo Alto\, CA\, 94306\, United States
CATEGORIES:Activity
ATTACH;FMTTYPE=image/png:https://unitypaloalto.org/wp-content/uploads/Yoga.png
GEO:37.4267118;-122.1182989
X-APPLE-STRUCTURED-LOCATION;VALUE=URI;X-ADDRESS=At the UPA Fireside Room Middlefield Road Palo Alto CA 94306 United States;X-APPLE-RADIUS=500;X-TITLE=Middlefield Road:geo:-122.1182989,37.4267118
END:VEVENT
BEGIN:VEVENT
DTSTART;TZID=America/Los_Angeles:20260422T180000
DTEND;TZID=America/Los_Angeles:20260422T193000
DTSTAMP:20260425T153948
CREATED:20260105T190512Z
LAST-MODIFIED:20260111T052443Z
UID:10003986-1776880800-1776886200@unitypaloalto.org
SUMMARY:A Course in Miracles Weekly Zoom
DESCRIPTION:
URL:https://unitypaloalto.org/event/a-course-in-miracles-study-group-2/2026-04-22/
LOCATION:On Zoom
CATEGORIES:Activity
ATTACH;FMTTYPE=image/jpeg:https://unitypaloalto.org/wp-content/uploads/ACIM-Weekly-Meeting.jpg
END:VEVENT
BEGIN:VEVENT
DTSTART;TZID=America/Los_Angeles:20260423T191500
DTEND;TZID=America/Los_Angeles:20260423T200000
DTSTAMP:20260425T153948
CREATED:20260305T162330Z
LAST-MODIFIED:20260414T171956Z
UID:10005530-1776971700-1776974400@unitypaloalto.org
SUMMARY:Sacred Silence Meditation
DESCRIPTION:Sacred Silence Meditation is a drop-in gathering that offers a gentle\, intentional pause at the end of your week. \nJoin Dr. Holly Hopkins Shah on Thursdays to go into the silence. The 30-minute meditation begins at 7:30 pm  (following 15 minutes of connection time at 7:15) and will include 20 minutes of silence.  Open to anyone who wants to set down the noise of the week and rest in stillness for a while. Perfect for anyone who feels the pull toward the quiet or is curious about silent meditation vs. guided. \nWhat to expect\n– The evening begins with a few minutes of connection to help you release the busyness you carried in.\n– From there\, a brief reading rooted in universal spiritual principles settles the room before the group enters into shared silence together.\n– This is not a guided meditation with prompts or instructions. The silence is open and spacious\, giving you room to simply be present and allow your own awareness to deepen.\n– The gathering closes with an affirmative prayer that brings a sense of grounded peace to carry with you into the rest of your evening. \nIf you have been feeling scattered\, overstimulated\, or disconnected from yourself\, this is a space designed with you in mind! \nWeekly on Thursdays\nTime: 7:15 PM to 8:00 PM – connection time @7:15pm\, meditation begins promptly at 7:30pm\nWith: Dr. Holly Hopkins Shah\nLocation: Unity Palo Alto (in person and online via Zoom)\nAddress: 3391 Middlefield Rd\, Palo Alto\, CA 94306\nPhone: 650.849.1100\nEmail: connecting@unitypaloalto.org\nZoom Meeting Link: https://us02web.zoom.us/j/85399362903?pwd=b2hlWjhK3xaIuHeahRjWYrsUYhBius.1 \nThis event is open to everyone. No registration required. A suggested donation of $5-10 is warmly appreciated. Simply show up\, in person or online\, and bring yourself exactly as you are.
URL:https://unitypaloalto.org/event/sacred-silence-meditation/2026-04-23/
LOCATION:At the UPA Fireside Room & on Zoom
CATEGORIES:Activity,home-feature
ATTACH;FMTTYPE=image/jpeg:https://unitypaloalto.org/wp-content/uploads/Sacred-Silence-Meditation-Thursdays.jpg
END:VEVENT
END:VCALENDAR