BEGIN:VCALENDAR
VERSION:2.0
PRODID:-//Unity Palo Alto - ECPv6.15.20//NONSGML v1.0//EN
CALSCALE:GREGORIAN
METHOD:PUBLISH
X-ORIGINAL-URL:https://unitypaloalto.org
X-WR-CALDESC:Events for Unity Palo Alto
REFRESH-INTERVAL;VALUE=DURATION:PT1H
X-Robots-Tag:noindex
X-PUBLISHED-TTL:PT1H
BEGIN:VTIMEZONE
TZID:America/Los_Angeles
BEGIN:DAYLIGHT
TZOFFSETFROM:-0800
TZOFFSETTO:-0700
TZNAME:PDT
DTSTART:20210314T100000
END:DAYLIGHT
BEGIN:STANDARD
TZOFFSETFROM:-0700
TZOFFSETTO:-0800
TZNAME:PST
DTSTART:20211107T090000
END:STANDARD
BEGIN:DAYLIGHT
TZOFFSETFROM:-0800
TZOFFSETTO:-0700
TZNAME:PDT
DTSTART:20220313T100000
END:DAYLIGHT
BEGIN:STANDARD
TZOFFSETFROM:-0700
TZOFFSETTO:-0800
TZNAME:PST
DTSTART:20221106T090000
END:STANDARD
BEGIN:DAYLIGHT
TZOFFSETFROM:-0800
TZOFFSETTO:-0700
TZNAME:PDT
DTSTART:20230312T100000
END:DAYLIGHT
BEGIN:STANDARD
TZOFFSETFROM:-0700
TZOFFSETTO:-0800
TZNAME:PST
DTSTART:20231105T090000
END:STANDARD
END:VTIMEZONE
BEGIN:VEVENT
DTSTART;TZID=America/Los_Angeles:20220227T110000
DTEND;TZID=America/Los_Angeles:20220227T130000
DTSTAMP:20260420T055811
CREATED:20220124T195055Z
LAST-MODIFIED:20220220T165451Z
UID:10000094-1645959600-1645966800@unitypaloalto.org
SUMMARY:Unity Palo Alto Annual Meeting 2022
DESCRIPTION:Everyone is welcome to attend this Zoom meeting and members are invited to vote for new Board of Trustees members\, ratify the budget\, and so much more!\nVoting Members: Due to legal requirements\, each member must have a unique registration and login. Each member must log in on a separate device in order to vote. If you are sharing a device with someone else\, only one vote will count. \nRegister for this Zoom Meeting: \nhttps://us02web.zoom.us/meeting/register/tZcrc-mopjkvGtebujg3e4yEd3Nyx0NCM-EL
URL:https://unitypaloalto.org/event/annualmeeting/
CATEGORIES:home-feature
ATTACH;FMTTYPE=image/jpeg:https://unitypaloalto.org/wp-content/uploads/AnnualMeeting-1920-e1643056912653.jpg
END:VEVENT
END:VCALENDAR