BEGIN:VCALENDAR
VERSION:2.0
PRODID:-//Unity Palo Alto - ECPv6.15.20//NONSGML v1.0//EN
CALSCALE:GREGORIAN
METHOD:PUBLISH
X-WR-CALNAME:Unity Palo Alto
X-ORIGINAL-URL:https://unitypaloalto.org
X-WR-CALDESC:Events for Unity Palo Alto
REFRESH-INTERVAL;VALUE=DURATION:PT1H
X-Robots-Tag:noindex
X-PUBLISHED-TTL:PT1H
BEGIN:VTIMEZONE
TZID:America/Los_Angeles
BEGIN:DAYLIGHT
TZOFFSETFROM:-0800
TZOFFSETTO:-0700
TZNAME:PDT
DTSTART:20250309T100000
END:DAYLIGHT
BEGIN:STANDARD
TZOFFSETFROM:-0700
TZOFFSETTO:-0800
TZNAME:PST
DTSTART:20251102T090000
END:STANDARD
BEGIN:DAYLIGHT
TZOFFSETFROM:-0800
TZOFFSETTO:-0700
TZNAME:PDT
DTSTART:20260308T100000
END:DAYLIGHT
BEGIN:STANDARD
TZOFFSETFROM:-0700
TZOFFSETTO:-0800
TZNAME:PST
DTSTART:20261101T090000
END:STANDARD
BEGIN:DAYLIGHT
TZOFFSETFROM:-0800
TZOFFSETTO:-0700
TZNAME:PDT
DTSTART:20270314T100000
END:DAYLIGHT
BEGIN:STANDARD
TZOFFSETFROM:-0700
TZOFFSETTO:-0800
TZNAME:PST
DTSTART:20271107T090000
END:STANDARD
END:VTIMEZONE
BEGIN:VEVENT
DTSTART;TZID=America/Los_Angeles:20260503T113000
DTEND;TZID=America/Los_Angeles:20260503T123000
DTSTAMP:20260419T225338
CREATED:20260308T225046Z
LAST-MODIFIED:20260206T071942Z
UID:10003701-1777807800-1777811400@unitypaloalto.org
SUMMARY:Community Member Orientation
DESCRIPTION:The path of membership begins with becoming a Community Member.\nUnity Palo Alto is part of a global spiritual movement that brings together people from all backgrounds and walks of life. We are welcoming and inclusive and teach positive\, practical spiritual principles that can be applied daily. We are here to inspire people to spiritually transform their lives and make a positive difference in the world. \nThis phase of membership focuses on your spiritual growth through the Sunday Service\, meditation and affirmative prayer\, classes\, and workshops. It is about creating a sense of belonging through community activity and sharing our time and talents. Community Members are encouraged to continue their spiritual growth journey and become actively involved in our loving and vibrant spiritual community.I say YES to my spiritual growth by participating in spiritual services\, classes\, and workshops. \n\nI say YES to my spiritual growth by participating in spiritual services\, classes\, and workshops.\nI say YES\, Unity Palo Alto is important to me and I am willing to share my gifts & talents in some meaningful service in our spiritual center or beyond.\nI say YES\, I am willing to do my part to support our Spiritual Community\n\nAfter one year\, a Community member can apply to be a Voting Member. Voting Members are in partnership with our ministry and are invited into the governance of our Spiritual Center. Voting Members renew their commitment each year through the membership renewal process. \nAre you ready to take the next step? Come to the Community Member Orientation with Rev. John Riley. In this round-table style discussion\, you will learn more about Unity\, Unity Palo Alto\, and how to deepen your connection with our spiritual community. \nRSVP\nRSVP to join us in person in the Learning Center:\nhttps://forms.gle/8hAXBqyhdZLJXpbd6 \nOR \nRSVP to join us on Zoom:\nhttps://us02web.zoom.us/meeting/register/fh2iLW9wSsGPLxc6Xi2maw
URL:https://unitypaloalto.org/event/community-member-orientation-2026-05-03/
LOCATION:At the UPA Learning Center & on Zoom\, Middlefield Road\, Palo Alto\, CA\, 94306\, United States
CATEGORIES:Activity,home-feature,Member
ATTACH;FMTTYPE=image/jpeg:https://unitypaloalto.org/wp-content/uploads/CommunityMember-400.jpeg
GEO:37.4267118;-122.1182989
X-APPLE-STRUCTURED-LOCATION;VALUE=URI;X-ADDRESS=At the UPA Learning Center & on Zoom Middlefield Road Palo Alto CA 94306 United States;X-APPLE-RADIUS=500;X-TITLE=Middlefield Road:geo:-122.1182989,37.4267118
END:VEVENT
BEGIN:VEVENT
DTSTART;TZID=America/Los_Angeles:20260506T190000
DTEND;TZID=America/Los_Angeles:20260506T200000
DTSTAMP:20260419T225338
CREATED:20260412T153536Z
LAST-MODIFIED:20260416T162913Z
UID:10005948-1778094000-1778097600@unitypaloalto.org
SUMMARY:Singing 101
DESCRIPTION:If you’ve always wanted to feel more confident when you sing around friends\, family\, or just for yourself\, Singing 101 is built for exactly that. Margo LeDuc brings together a group once a month for one hour of real vocal technique that actually works. \nYou’ll start with a warm-up together\, then Margo walks you through the fundamentals that actually change how you sound. We’re talking breathing\, posture\, jaw placement\, the little things that make a huge difference. You’ll work on a song together as a group\, and by the end of the hour you’ll have real tools to take home and practice on your own. \nThe whole thing feels way more like hanging out with people who get it than sitting in a stuffy class. It’s lightweight\, it’s fun\, and the techniques are simple enough that you can actually use them. \n**When:** First Wednesday of the month\, starting May 6th\, 7-8pm\n**Where:** Unity Palo Alto\, 3391 Middlefield Rd\n**Cost:** $25 per class \nThe fun continues on Friday for Karaoke Night where you can show off your new skills! \nSign up for Singing 101 here: \n 
URL:https://unitypaloalto.org/event/singing-101/2026-05-06/
LOCATION:At the UPA Fireside Room\, Middlefield Road\, Palo Alto\, CA\, 94306\, United States
CATEGORIES:Activity
ATTACH;FMTTYPE=image/jpeg:https://unitypaloalto.org/wp-content/uploads/Singing-101.jpg
GEO:37.4267118;-122.1182989
X-APPLE-STRUCTURED-LOCATION;VALUE=URI;X-ADDRESS=At the UPA Fireside Room Middlefield Road Palo Alto CA 94306 United States;X-APPLE-RADIUS=500;X-TITLE=Middlefield Road:geo:-122.1182989,37.4267118
END:VEVENT
BEGIN:VEVENT
DTSTART;TZID=America/Los_Angeles:20260508T190000
DTEND;TZID=America/Los_Angeles:20260508T210000
DTSTAMP:20260419T225338
CREATED:20260412T173042Z
LAST-MODIFIED:20260416T161438Z
UID:10006265-1778266800-1778274000@unitypaloalto.org
SUMMARY:Karaoke Night! (Friday after monthly Singing 101)
DESCRIPTION:Once a month\, the Creative Expression Project throws the kind of karaoke night that reminds you why you love music in the first place. \nGrab the mic\, cheer from your seat\, or just get up and dance\, because the whole point is to celebrate each other having the time of our lives. \n$15 supports the Creative Expression Project\,! It’s the First Friday after every Singing 101\, and trust us\, it’s the best way to end the week. Come experience pure Karaoke joy!
URL:https://unitypaloalto.org/event/karaoke-night-monthly/2026-05-08/
LOCATION:At the UPA Courtyard\, Middlefield Road\, Palo Alto\, CA\, 94306\, United States
CATEGORIES:Activity
ATTACH;FMTTYPE=image/jpeg:https://unitypaloalto.org/wp-content/uploads/Karaoke.jpg
GEO:37.4267118;-122.1182989
X-APPLE-STRUCTURED-LOCATION;VALUE=URI;X-ADDRESS=At the UPA Courtyard Middlefield Road Palo Alto CA 94306 United States;X-APPLE-RADIUS=500;X-TITLE=Middlefield Road:geo:-122.1182989,37.4267118
END:VEVENT
BEGIN:VEVENT
DTSTART;TZID=America/Los_Angeles:20260512T120000
DTEND;TZID=America/Los_Angeles:20260512T124500
DTSTAMP:20260419T225338
CREATED:20260414T173838Z
LAST-MODIFIED:20260414T200624Z
UID:10006584-1778587200-1778589900@unitypaloalto.org
SUMMARY:Song & Sound Meditation (12pm)
DESCRIPTION:There’s a reason a song can change your whole mood in 30 seconds. In this 45-minute Song & Sound Meditation\, we lean all the way into that. \nMargo LeDuc will guide the room through a set of communal chants\, where the vibrations of voice and sound work together to reduce stress\, ease anxiety\, and settle you into a real sense of peace and balance. The outside world falls away\, and for 45 minutes you just bathe in the healing power of collective sound. The kind of reset that only sound can give you. \nCost $10 – Register:
URL:https://unitypaloalto.org/event/song-sound-meditation-12pm/2026-05-12/
LOCATION:At the UPA Sanctuary\, 3391 Middlefield Road\, Palo Alto\, 94306\, United States
CATEGORIES:Activity
ATTACH;FMTTYPE=image/jpeg:https://unitypaloalto.org/wp-content/uploads/Slides-for-Services-3.jpg
GEO:37.4267118;-122.1182989
X-APPLE-STRUCTURED-LOCATION;VALUE=URI;X-ADDRESS=At the UPA Sanctuary 3391 Middlefield Road Palo Alto 94306 United States;X-APPLE-RADIUS=500;X-TITLE=3391 Middlefield Road:geo:-122.1182989,37.4267118
END:VEVENT
BEGIN:VEVENT
DTSTART;TZID=America/Los_Angeles:20260512T190000
DTEND;TZID=America/Los_Angeles:20260512T194500
DTSTAMP:20260419T225338
CREATED:20260412T165920Z
LAST-MODIFIED:20260414T195410Z
UID:10006008-1778612400-1778615100@unitypaloalto.org
SUMMARY:Song & Sound Meditation (7pm)
DESCRIPTION:There’s a reason a song can change your whole mood in 30 seconds. In this 45-minute Song & Sound Meditation\, we lean all the way into that. \nMargo LeDuc will guide the room through a set of communal chants\, where the vibrations of voice and sound work together to reduce stress\, ease anxiety\, and settle you into a real sense of peace and balance. The outside world falls away\, and for 45 minutes you just bathe in the healing power of collective sound. The kind of reset that only sound can give you. \nCost $10 – Register:
URL:https://unitypaloalto.org/event/song-sound-meditation/2026-05-12/
LOCATION:At the UPA Sanctuary\, 3391 Middlefield Road\, Palo Alto\, 94306\, United States
CATEGORIES:Activity
ATTACH;FMTTYPE=image/jpeg:https://unitypaloalto.org/wp-content/uploads/Slides-for-Services-3.jpg
GEO:37.4267118;-122.1182989
X-APPLE-STRUCTURED-LOCATION;VALUE=URI;X-ADDRESS=At the UPA Sanctuary 3391 Middlefield Road Palo Alto 94306 United States;X-APPLE-RADIUS=500;X-TITLE=3391 Middlefield Road:geo:-122.1182989,37.4267118
END:VEVENT
BEGIN:VEVENT
DTSTART;TZID=America/Los_Angeles:20260519T190000
DTEND;TZID=America/Los_Angeles:20260519T200000
DTSTAMP:20260419T225338
CREATED:20260419T162309Z
LAST-MODIFIED:20260419T165333Z
UID:10006931-1779217200-1779220800@unitypaloalto.org
SUMMARY:The Game of Life (Online Class)
DESCRIPTION:Florence Scovel Shinn wrote “The Game of Life and How to Play It” nearly 100 years ago\, but her teachings on spiritual law\, the power of our words\, and trusting the divine are just as relevant today. This 6-week online class takes those ideas and brings them into the present with modern\, practical tools you can use in your everyday life. \nEach week\, we’ll explore a different theme from the book\, including how your thoughts and words shape your experience\, how to work with spiritual law around money\, relationships\, and purpose\, and how to trust your intuition more fully. You’ll walk away each week with affirmations\, journaling prompts\, and simple practices you can put to work right away. \nThis class is a good fit if you’ve been feeling stuck\, scattered\, or like something just isn’t flowing the way you’d like. It’s also great for anyone who is simply ready to live with more faith\, clarity\, and ease. \nClasses meet Tuesday evenings from 7:00 to 8:30 PM on Zoom\, starting May 19th. Attendance is free\, and donations are warmly welcomed. Please bring a copy of the book\, a pen\, and a journal or notebook.
URL:https://unitypaloalto.org/event/the-game-of-life-online-class/2026-05-19/
LOCATION:On Zoom
CATEGORIES:Activity
ATTACH;FMTTYPE=image/jpeg:https://unitypaloalto.org/wp-content/uploads/Game-of-Life04-.jpg
END:VEVENT
BEGIN:VEVENT
DTSTART;TZID=America/Los_Angeles:20260531T111500
DTEND;TZID=America/Los_Angeles:20260531T123000
DTSTAMP:20260419T225338
CREATED:20260416T172919Z
LAST-MODIFIED:20260416T173639Z
UID:10006866-1780226100-1780230600@unitypaloalto.org
SUMMARY:Lunch With Friends
DESCRIPTION:You are invited to lunch! Celebrate our spiritual community. Whether a long-time member or a first-time visitor\, you are welcome as we celebrate our spiritual community. Chef Paul Wcislo is dreaming up a delicious menu! Love offerings will go to support our Center. \nCost: Free\nPlease RSVP below to help us plan how much food we need! \n﻿
URL:https://unitypaloalto.org/event/lunch-with-friends-2026-05/
LOCATION:At the UPA Courtyard\, Middlefield Road\, Palo Alto\, CA\, 94306\, United States
CATEGORIES:Activity,home-feature
ATTACH;FMTTYPE=image/jpeg:https://unitypaloalto.org/wp-content/uploads/Lunch-with-Friends.jpg
GEO:37.4267118;-122.1182989
X-APPLE-STRUCTURED-LOCATION;VALUE=URI;X-ADDRESS=At the UPA Courtyard Middlefield Road Palo Alto CA 94306 United States;X-APPLE-RADIUS=500;X-TITLE=Middlefield Road:geo:-122.1182989,37.4267118
END:VEVENT
BEGIN:VEVENT
DTSTART;TZID=America/Los_Angeles:20260726T110000
DTEND;TZID=America/Los_Angeles:20260726T140000
DTSTAMP:20260419T225338
CREATED:20260419T002100Z
LAST-MODIFIED:20260419T002100Z
UID:10006926-1785063600-1785074400@unitypaloalto.org
SUMMARY:UPA Day!
DESCRIPTION:More information to come!
URL:https://unitypaloalto.org/event/upa-day-2/
LOCATION:At the UPA Courtyard\, Middlefield Road\, Palo Alto\, CA\, 94306\, United States
CATEGORIES:Activity
ATTACH;FMTTYPE=image/jpeg:https://unitypaloalto.org/wp-content/uploads/UPA-Day-2026-400.jpg
GEO:37.4267118;-122.1182989
X-APPLE-STRUCTURED-LOCATION;VALUE=URI;X-ADDRESS=At the UPA Courtyard Middlefield Road Palo Alto CA 94306 United States;X-APPLE-RADIUS=500;X-TITLE=Middlefield Road:geo:-122.1182989,37.4267118
END:VEVENT
BEGIN:VEVENT
DTSTART;TZID=America/Los_Angeles:20261206T173000
DTEND;TZID=America/Los_Angeles:20261206T193000
DTSTAMP:20260419T225338
CREATED:20260419T003302Z
LAST-MODIFIED:20260419T003658Z
UID:10006927-1796578200-1796585400@unitypaloalto.org
SUMMARY:2026 Family Holiday Party
DESCRIPTION:Celebrate the Season with Joy\, Music\, and Community\nJoin us for a family holiday party and open house that will be a night of fun all ages. \nBefore the holiday rush begins\, take a night to relax\, connect\, and soak in the spirit of the season! \n\nSing along with Margo to your favorite carols\nSavor a delicious meal prepared by our own Chef Paul\nSpark your holiday creativity with crafts and activities\nShare laughter with friends old and new.\n\nBring your family\, your friends\, or just yourself and experience the warmth of community in a fun\, welcoming setting. \nUnity Palo Alto is a non-denominatioal spiritual center that helps people find their own unique purpose\, create the life they want\, and live from a centered\, peaceful\, joyful space. \nWe can’t wait to celebrate with you and start a new tradition – More Tickets available here: Reserve Your Spot at our Family Holiday Party Today!
URL:https://unitypaloalto.org/event/family-holiday-party-2026/
LOCATION:At Unity Palo Alto\, 3391 Middlefield Road\, Palo Alto\, CA\, 94306\, United States
CATEGORIES:Activity
ATTACH;FMTTYPE=image/jpeg:https://unitypaloalto.org/wp-content/uploads/Holiday-Party-2026-400.jpg
GEO:37.4269437;-122.118048
X-APPLE-STRUCTURED-LOCATION;VALUE=URI;X-ADDRESS=At Unity Palo Alto 3391 Middlefield Road Palo Alto CA 94306 United States;X-APPLE-RADIUS=500;X-TITLE=3391 Middlefield Road:geo:-122.118048,37.4269437
END:VEVENT
BEGIN:VEVENT
DTSTART;TZID=America/Los_Angeles:20261214T190000
DTEND;TZID=America/Los_Angeles:20261214T200000
DTSTAMP:20260419T225338
CREATED:20260419T004500Z
LAST-MODIFIED:20260419T004626Z
UID:10006928-1797274800-1797278400@unitypaloalto.org
SUMMARY:2026 Holiday Concert & Toy Drive
DESCRIPTION:Join us for a lively\, one hour holiday concert that kicks off the season with music\, connection\, and a good cause. Everyone is welcome! \nMonday\, December 14 from 7:00 to 8:00 PM at Unity Palo Alto 3391 Middlefield Rd – \nAdmission: bring one new\, unwrapped and unopened toy \nA Monday Night of Joy and Giving Back\nThis is a fun\, feel good evening. Expect upbeat holiday music\, community energy\, and a chance to give back in a simple and meaningful way. \nYou will enjoy: \n\nA Holidays Around the World concert\nLive holiday music from Margo LeDuc\, the Unity Palo Alto band\, and local guest artists\nA big holiday sing along\nSongs in Ukrainian\, Chinese\, Spanish\, and Hindi\nPerfect for kids and adults\n\nAll are welcome – Bring friends\, family and your singing voice. \nYour Toy Is Your Ticket – Support Cooline Kids\nPlease bring one new\, unwrapped toy in its original packaging. All toys support Cooline Kids\, a young adult-led nonprofit that serves children in East Palo Alto. You will make a child’s holiday brighter just by showing up. \n\nHelp us underwrite the Concert!\nHelp by underwriting the Holiday Toy Concert – we are hoping to raise $3000 – click on the blue Give button and select “Underwrite the Toy Drive Concert” in step 2. Thank you for your support!
URL:https://unitypaloalto.org/event/holiday-concert-toy-drive-2026/
CATEGORIES:Activity,holidays,home-feature
ATTACH;FMTTYPE=image/png:https://unitypaloalto.org/wp-content/uploads/Toy-Drive-2026-e1776559483270.png
END:VEVENT
END:VCALENDAR