BEGIN:VCALENDAR
VERSION:2.0
PRODID:-//Unity Palo Alto - ECPv6.15.20//NONSGML v1.0//EN
CALSCALE:GREGORIAN
METHOD:PUBLISH
X-WR-CALNAME:Unity Palo Alto
X-ORIGINAL-URL:https://unitypaloalto.org
X-WR-CALDESC:Events for Unity Palo Alto
REFRESH-INTERVAL;VALUE=DURATION:PT1H
X-Robots-Tag:noindex
X-PUBLISHED-TTL:PT1H
BEGIN:VTIMEZONE
TZID:America/Los_Angeles
BEGIN:DAYLIGHT
TZOFFSETFROM:-0800
TZOFFSETTO:-0700
TZNAME:PDT
DTSTART:20210314T100000
END:DAYLIGHT
BEGIN:STANDARD
TZOFFSETFROM:-0700
TZOFFSETTO:-0800
TZNAME:PST
DTSTART:20211107T090000
END:STANDARD
BEGIN:DAYLIGHT
TZOFFSETFROM:-0800
TZOFFSETTO:-0700
TZNAME:PDT
DTSTART:20220313T100000
END:DAYLIGHT
BEGIN:STANDARD
TZOFFSETFROM:-0700
TZOFFSETTO:-0800
TZNAME:PST
DTSTART:20221106T090000
END:STANDARD
BEGIN:DAYLIGHT
TZOFFSETFROM:-0800
TZOFFSETTO:-0700
TZNAME:PDT
DTSTART:20230312T100000
END:DAYLIGHT
BEGIN:STANDARD
TZOFFSETFROM:-0700
TZOFFSETTO:-0800
TZNAME:PST
DTSTART:20231105T090000
END:STANDARD
END:VTIMEZONE
BEGIN:VEVENT
DTSTART;TZID=America/Los_Angeles:20220302T181500
DTEND;TZID=America/Los_Angeles:20220302T191500
DTSTAMP:20260419T085707
CREATED:20220122T213422Z
LAST-MODIFIED:20220222T224222Z
UID:10000008-1646244900-1646248500@unitypaloalto.org
SUMMARY:Self-Acceptance as a Spiritual Practice
DESCRIPTION:Our second principle teaches us that we are divine beings.  That each of us is a unique expression of the universe.  It invites us to embrace the knowing of our oneness.  From this knowing we unfold\, we trust and are one with the process of life.  When we hold thoughts of not enough\, of unworthiness\, or shame\, we separate ourselves from our true nature.  How can we live from our divinity if we are rejecting\, disowning\, or abandoning ourselves? \nJoin Casey Wicker for a 6-week exploration of self-acceptance as a spiritual practice.  Together we will look at what self-acceptance means to us and discover tools to bring us back to our oneness when our thoughts create an illusion of being separate.  Select chapters from the Book “The Self-Acceptance Project…” will be reviewed and discussed.  Be kind and compassionate ~ YOU are the universe expressing itself\, celebrating itself! \nWhen:  Wednesdays\, 2/16 – 3/23\nTime:  6:15 pm – 7:15 pm\nCost:  Love Offering\nMaterials:  Journal and “The Self-Acceptance Project:  How to Be Kind & Compassionate Toward Yourself in Any Situation\,” Ed. Tami Simon\nRegistration Closed.
URL:https://unitypaloalto.org/event/self-acceptance-as-a-spiritual-practice/2022-03-02/
ATTACH;FMTTYPE=image/jpeg:https://unitypaloalto.org/wp-content/uploads/Self-Acceptance.jpg
END:VEVENT
BEGIN:VEVENT
DTSTART;TZID=America/Los_Angeles:20220306T090000
DTEND;TZID=America/Los_Angeles:20220306T093000
DTSTAMP:20260419T085707
CREATED:20161209T025016Z
LAST-MODIFIED:20231102T181538Z
UID:10000191-1646557200-1646559000@unitypaloalto.org
SUMMARY:Sunday Morning Meditation
DESCRIPTION:Begin your week centered\, focused\, and empowered at our Sunday Morning Meditation. \nRegister once in advance for this meeting and you may participate every Sunday (NEW registration as of 11/02/2023)\nhttps://us02web.zoom.us/meeting/register/tZYscuCgrz8uEtNHziCwg8DZgIyzU1mvYbKfqdq-wkh5twd-gea*DUG \nAfter registering\, you will receive a confirmation email containing information about joining the meeting.
URL:https://unitypaloalto.org/event/sunday-meditation/2022-03-06/
CATEGORIES:Activity
ATTACH;FMTTYPE=image/jpeg:https://unitypaloalto.org/wp-content/uploads/Meditation-1.jpg
END:VEVENT
BEGIN:VEVENT
DTSTART;TZID=America/Los_Angeles:20220306T100000
DTEND;TZID=America/Los_Angeles:20220306T110000
DTSTAMP:20260419T085707
CREATED:20211223T200353Z
LAST-MODIFIED:20221119T155256Z
UID:10000142-1646560800-1646564400@unitypaloalto.org
SUMMARY:Sunday Celebration Service
DESCRIPTION:Fresh and modern spirituality\, speakers\, and music\nIn-person & live stream \nSunday mornings are uplifting\, inspirational\, and fun! The forward-thinking\, practical spiritual messages you’ll hear on Sunday will help you with the real-life issues you face during the week. Celebrate with us on Sunday in person or at www.UnityPaloAlto.org/live. Catch up on a previous service at unitypaloalto.org/service-recordings.
URL:https://unitypaloalto.org/event/sunday-celebration-service-5/2022-03-06/
END:VEVENT
BEGIN:VEVENT
DTSTART;TZID=America/Los_Angeles:20220309T181500
DTEND;TZID=America/Los_Angeles:20220309T191500
DTSTAMP:20260419T085707
CREATED:20220122T213422Z
LAST-MODIFIED:20220222T224222Z
UID:10000009-1646849700-1646853300@unitypaloalto.org
SUMMARY:Self-Acceptance as a Spiritual Practice
DESCRIPTION:Our second principle teaches us that we are divine beings.  That each of us is a unique expression of the universe.  It invites us to embrace the knowing of our oneness.  From this knowing we unfold\, we trust and are one with the process of life.  When we hold thoughts of not enough\, of unworthiness\, or shame\, we separate ourselves from our true nature.  How can we live from our divinity if we are rejecting\, disowning\, or abandoning ourselves? \nJoin Casey Wicker for a 6-week exploration of self-acceptance as a spiritual practice.  Together we will look at what self-acceptance means to us and discover tools to bring us back to our oneness when our thoughts create an illusion of being separate.  Select chapters from the Book “The Self-Acceptance Project…” will be reviewed and discussed.  Be kind and compassionate ~ YOU are the universe expressing itself\, celebrating itself! \nWhen:  Wednesdays\, 2/16 – 3/23\nTime:  6:15 pm – 7:15 pm\nCost:  Love Offering\nMaterials:  Journal and “The Self-Acceptance Project:  How to Be Kind & Compassionate Toward Yourself in Any Situation\,” Ed. Tami Simon\nRegistration Closed.
URL:https://unitypaloalto.org/event/self-acceptance-as-a-spiritual-practice/2022-03-09/
ATTACH;FMTTYPE=image/jpeg:https://unitypaloalto.org/wp-content/uploads/Self-Acceptance.jpg
END:VEVENT
BEGIN:VEVENT
DTSTART;TZID=America/Los_Angeles:20220313T090000
DTEND;TZID=America/Los_Angeles:20220313T093000
DTSTAMP:20260419T085707
CREATED:20161209T025016Z
LAST-MODIFIED:20231102T181538Z
UID:10000192-1647162000-1647163800@unitypaloalto.org
SUMMARY:Sunday Morning Meditation
DESCRIPTION:Begin your week centered\, focused\, and empowered at our Sunday Morning Meditation. \nRegister once in advance for this meeting and you may participate every Sunday (NEW registration as of 11/02/2023)\nhttps://us02web.zoom.us/meeting/register/tZYscuCgrz8uEtNHziCwg8DZgIyzU1mvYbKfqdq-wkh5twd-gea*DUG \nAfter registering\, you will receive a confirmation email containing information about joining the meeting.
URL:https://unitypaloalto.org/event/sunday-meditation/2022-03-13/
CATEGORIES:Activity
ATTACH;FMTTYPE=image/jpeg:https://unitypaloalto.org/wp-content/uploads/Meditation-1.jpg
END:VEVENT
BEGIN:VEVENT
DTSTART;TZID=America/Los_Angeles:20220313T100000
DTEND;TZID=America/Los_Angeles:20220313T110000
DTSTAMP:20260419T085707
CREATED:20211223T200353Z
LAST-MODIFIED:20221119T155256Z
UID:10000143-1647165600-1647169200@unitypaloalto.org
SUMMARY:Sunday Celebration Service
DESCRIPTION:Fresh and modern spirituality\, speakers\, and music\nIn-person & live stream \nSunday mornings are uplifting\, inspirational\, and fun! The forward-thinking\, practical spiritual messages you’ll hear on Sunday will help you with the real-life issues you face during the week. Celebrate with us on Sunday in person or at www.UnityPaloAlto.org/live. Catch up on a previous service at unitypaloalto.org/service-recordings.
URL:https://unitypaloalto.org/event/sunday-celebration-service-5/2022-03-13/
END:VEVENT
BEGIN:VEVENT
DTSTART;TZID=America/Los_Angeles:20220316T181500
DTEND;TZID=America/Los_Angeles:20220316T191500
DTSTAMP:20260419T085707
CREATED:20220122T213422Z
LAST-MODIFIED:20220222T224222Z
UID:10000010-1647454500-1647458100@unitypaloalto.org
SUMMARY:Self-Acceptance as a Spiritual Practice
DESCRIPTION:Our second principle teaches us that we are divine beings.  That each of us is a unique expression of the universe.  It invites us to embrace the knowing of our oneness.  From this knowing we unfold\, we trust and are one with the process of life.  When we hold thoughts of not enough\, of unworthiness\, or shame\, we separate ourselves from our true nature.  How can we live from our divinity if we are rejecting\, disowning\, or abandoning ourselves? \nJoin Casey Wicker for a 6-week exploration of self-acceptance as a spiritual practice.  Together we will look at what self-acceptance means to us and discover tools to bring us back to our oneness when our thoughts create an illusion of being separate.  Select chapters from the Book “The Self-Acceptance Project…” will be reviewed and discussed.  Be kind and compassionate ~ YOU are the universe expressing itself\, celebrating itself! \nWhen:  Wednesdays\, 2/16 – 3/23\nTime:  6:15 pm – 7:15 pm\nCost:  Love Offering\nMaterials:  Journal and “The Self-Acceptance Project:  How to Be Kind & Compassionate Toward Yourself in Any Situation\,” Ed. Tami Simon\nRegistration Closed.
URL:https://unitypaloalto.org/event/self-acceptance-as-a-spiritual-practice/2022-03-16/
ATTACH;FMTTYPE=image/jpeg:https://unitypaloalto.org/wp-content/uploads/Self-Acceptance.jpg
END:VEVENT
BEGIN:VEVENT
DTSTART;TZID=America/Los_Angeles:20220320T090000
DTEND;TZID=America/Los_Angeles:20220320T093000
DTSTAMP:20260419T085707
CREATED:20161209T025016Z
LAST-MODIFIED:20231102T181538Z
UID:10000193-1647766800-1647768600@unitypaloalto.org
SUMMARY:Sunday Morning Meditation
DESCRIPTION:Begin your week centered\, focused\, and empowered at our Sunday Morning Meditation. \nRegister once in advance for this meeting and you may participate every Sunday (NEW registration as of 11/02/2023)\nhttps://us02web.zoom.us/meeting/register/tZYscuCgrz8uEtNHziCwg8DZgIyzU1mvYbKfqdq-wkh5twd-gea*DUG \nAfter registering\, you will receive a confirmation email containing information about joining the meeting.
URL:https://unitypaloalto.org/event/sunday-meditation/2022-03-20/
CATEGORIES:Activity
ATTACH;FMTTYPE=image/jpeg:https://unitypaloalto.org/wp-content/uploads/Meditation-1.jpg
END:VEVENT
BEGIN:VEVENT
DTSTART;TZID=America/Los_Angeles:20220320T100000
DTEND;TZID=America/Los_Angeles:20220320T110000
DTSTAMP:20260419T085707
CREATED:20211223T200353Z
LAST-MODIFIED:20221119T155256Z
UID:10000144-1647770400-1647774000@unitypaloalto.org
SUMMARY:Sunday Celebration Service
DESCRIPTION:Fresh and modern spirituality\, speakers\, and music\nIn-person & live stream \nSunday mornings are uplifting\, inspirational\, and fun! The forward-thinking\, practical spiritual messages you’ll hear on Sunday will help you with the real-life issues you face during the week. Celebrate with us on Sunday in person or at www.UnityPaloAlto.org/live. Catch up on a previous service at unitypaloalto.org/service-recordings.
URL:https://unitypaloalto.org/event/sunday-celebration-service-5/2022-03-20/
END:VEVENT
BEGIN:VEVENT
DTSTART;TZID=America/Los_Angeles:20220320T113000
DTEND;TZID=America/Los_Angeles:20220320T123000
DTSTAMP:20260419T085707
CREATED:20220104T000500Z
LAST-MODIFIED:20220316T230339Z
UID:10000101-1647775800-1647779400@unitypaloalto.org
SUMMARY:Write Your Story
DESCRIPTION:An experience of writing your life stories\nGroup-led on the 3rd Sunday\nRegister for the Zoom event:\nhttps://us02web.zoom.us/meeting/register/tZAtcuiurj4tG9xwP1DwIL3_gSLTkkT-XExw \nStories\, memories\, tales of the past\, call them what you will\, memories matter. History paints a broad picture of world\, national and local times and events but says little about the individuals who lived through those times. Memories are not experiences to be relived and constantly aired\, but to be looked at learned from\, and shared so the future may see how life used to be. \nEach month this group comes together to develop writing skills\, inspire each other\, and share stories. A topic for writing is chosen by the group at the end of each session. Each session is group-facilitated. \nMaterials; Journal\, Life is a Song\, Sing It by Joyce Riley (Optional)
URL:https://unitypaloalto.org/event/write-your-story-2/2022-03-20/
ATTACH;FMTTYPE=image/png:https://unitypaloalto.org/wp-content/uploads/Write-Your-Story.png
END:VEVENT
BEGIN:VEVENT
DTSTART;TZID=America/Los_Angeles:20220320T113000
DTEND;TZID=America/Los_Angeles:20220320T123000
DTSTAMP:20260419T085707
CREATED:20220104T000500Z
LAST-MODIFIED:20220317T173206Z
UID:10000012-1647775800-1647779400@unitypaloalto.org
SUMMARY:Write Your Story
DESCRIPTION:An experience of writing your life stories\nGroup-led on the 3rd Sunday\nRegister for the Zoom event:\nhttps://us02web.zoom.us/meeting/register/tZAtcuiurj4tG9xwP1DwIL3_gSLTkkT-XExw \nStories\, memories\, tales of the past\, call them what you will\, memories matter. History paints a broad picture of world\, national and local times and events but says little about the individuals who lived through those times. Memories are not experiences to be relived and constantly aired\, but to be looked at learned from\, and shared so the future may see how life used to be. \nEach month this group comes together to develop writing skills\, inspire each other\, and share stories. A topic for writing is chosen by the group at the end of each session. Each session is group-facilitated. \nMaterials; Journal\, Life is a Song\, Sing It by Joyce Riley (Optional)
URL:https://unitypaloalto.org/event/write-your-story-2-2022-02-20/2022-03-20/
ATTACH;FMTTYPE=image/png:https://unitypaloalto.org/wp-content/uploads/Write-Your-Story.png
END:VEVENT
BEGIN:VEVENT
DTSTART;TZID=America/Los_Angeles:20220323T181500
DTEND;TZID=America/Los_Angeles:20220323T191500
DTSTAMP:20260419T085707
CREATED:20220122T213422Z
LAST-MODIFIED:20220222T224222Z
UID:10000011-1648059300-1648062900@unitypaloalto.org
SUMMARY:Self-Acceptance as a Spiritual Practice
DESCRIPTION:Our second principle teaches us that we are divine beings.  That each of us is a unique expression of the universe.  It invites us to embrace the knowing of our oneness.  From this knowing we unfold\, we trust and are one with the process of life.  When we hold thoughts of not enough\, of unworthiness\, or shame\, we separate ourselves from our true nature.  How can we live from our divinity if we are rejecting\, disowning\, or abandoning ourselves? \nJoin Casey Wicker for a 6-week exploration of self-acceptance as a spiritual practice.  Together we will look at what self-acceptance means to us and discover tools to bring us back to our oneness when our thoughts create an illusion of being separate.  Select chapters from the Book “The Self-Acceptance Project…” will be reviewed and discussed.  Be kind and compassionate ~ YOU are the universe expressing itself\, celebrating itself! \nWhen:  Wednesdays\, 2/16 – 3/23\nTime:  6:15 pm – 7:15 pm\nCost:  Love Offering\nMaterials:  Journal and “The Self-Acceptance Project:  How to Be Kind & Compassionate Toward Yourself in Any Situation\,” Ed. Tami Simon\nRegistration Closed.
URL:https://unitypaloalto.org/event/self-acceptance-as-a-spiritual-practice/2022-03-23/
ATTACH;FMTTYPE=image/jpeg:https://unitypaloalto.org/wp-content/uploads/Self-Acceptance.jpg
END:VEVENT
BEGIN:VEVENT
DTSTART;TZID=America/Los_Angeles:20220327T090000
DTEND;TZID=America/Los_Angeles:20220327T093000
DTSTAMP:20260419T085707
CREATED:20161209T025016Z
LAST-MODIFIED:20231102T181538Z
UID:10000194-1648371600-1648373400@unitypaloalto.org
SUMMARY:Sunday Morning Meditation
DESCRIPTION:Begin your week centered\, focused\, and empowered at our Sunday Morning Meditation. \nRegister once in advance for this meeting and you may participate every Sunday (NEW registration as of 11/02/2023)\nhttps://us02web.zoom.us/meeting/register/tZYscuCgrz8uEtNHziCwg8DZgIyzU1mvYbKfqdq-wkh5twd-gea*DUG \nAfter registering\, you will receive a confirmation email containing information about joining the meeting.
URL:https://unitypaloalto.org/event/sunday-meditation/2022-03-27/
CATEGORIES:Activity
ATTACH;FMTTYPE=image/jpeg:https://unitypaloalto.org/wp-content/uploads/Meditation-1.jpg
END:VEVENT
BEGIN:VEVENT
DTSTART;TZID=America/Los_Angeles:20220327T100000
DTEND;TZID=America/Los_Angeles:20220327T110000
DTSTAMP:20260419T085707
CREATED:20211223T200353Z
LAST-MODIFIED:20221119T155256Z
UID:10000145-1648375200-1648378800@unitypaloalto.org
SUMMARY:Sunday Celebration Service
DESCRIPTION:Fresh and modern spirituality\, speakers\, and music\nIn-person & live stream \nSunday mornings are uplifting\, inspirational\, and fun! The forward-thinking\, practical spiritual messages you’ll hear on Sunday will help you with the real-life issues you face during the week. Celebrate with us on Sunday in person or at www.UnityPaloAlto.org/live. Catch up on a previous service at unitypaloalto.org/service-recordings.
URL:https://unitypaloalto.org/event/sunday-celebration-service-5/2022-03-27/
END:VEVENT
BEGIN:VEVENT
DTSTART;TZID=America/Los_Angeles:20220328T183000
DTEND;TZID=America/Los_Angeles:20220328T203000
DTSTAMP:20260419T085707
CREATED:20220220T013155Z
LAST-MODIFIED:20220220T015052Z
UID:10000123-1648492200-1648499400@unitypaloalto.org
SUMMARY:Board of Trustees Monthly Meeting
DESCRIPTION:Our Board of Trustees serves as a model for putting Unity Principles to work at our Spiritual Center. Always putting Spirit first\, we lead from a consciousness of abundance\, love\, and understanding. Throughout this unprecedented experience of the COVID-19 pandemic\, your Board has been closely monitoring the finances of our spiritual center and we are committed to keeping you up to date on our financial status. During this time of Shelter-In-Place\, we are holding our meetings with Zoom. \nYou are welcome to attend the meeting beginning at 6:30 pm. You have two opportunities to participate during the meeting: at the beginning after the approval of the previous meeting’s minutes and towards the end after the action item review. \nPlease register for the meeting. Once registered\, you can join any meeting. Register at:\nhttps://us02web.zoom.us/meeting/register/tZcpdeurqjwqHtzbFttnSmE4yMlpQx8AMCLn \nZoom Meeting ID: 834 2234 7048\nPasscode: 950927\nLink once the meeting begins:\nhttps://us02web.zoom.us/j/83422347048?pwd=MzdMc2lUS29aeEk4WHdZeW80RS9vUT09
URL:https://unitypaloalto.org/event/board-of-trustees-monthly-meeting-3/2022-03-28/
ATTACH;FMTTYPE=image/png:https://unitypaloalto.org/wp-content/uploads/BOT-Mtg-400.png
END:VEVENT
END:VCALENDAR