BEGIN:VCALENDAR
VERSION:2.0
PRODID:-//Unity Palo Alto - ECPv6.15.20//NONSGML v1.0//EN
CALSCALE:GREGORIAN
METHOD:PUBLISH
X-WR-CALNAME:Unity Palo Alto
X-ORIGINAL-URL:https://unitypaloalto.org
X-WR-CALDESC:Events for Unity Palo Alto
REFRESH-INTERVAL;VALUE=DURATION:PT1H
X-Robots-Tag:noindex
X-PUBLISHED-TTL:PT1H
BEGIN:VTIMEZONE
TZID:America/Los_Angeles
BEGIN:DAYLIGHT
TZOFFSETFROM:-0800
TZOFFSETTO:-0700
TZNAME:PDT
DTSTART:20210314T100000
END:DAYLIGHT
BEGIN:STANDARD
TZOFFSETFROM:-0700
TZOFFSETTO:-0800
TZNAME:PST
DTSTART:20211107T090000
END:STANDARD
BEGIN:DAYLIGHT
TZOFFSETFROM:-0800
TZOFFSETTO:-0700
TZNAME:PDT
DTSTART:20220313T100000
END:DAYLIGHT
BEGIN:STANDARD
TZOFFSETFROM:-0700
TZOFFSETTO:-0800
TZNAME:PST
DTSTART:20221106T090000
END:STANDARD
BEGIN:DAYLIGHT
TZOFFSETFROM:-0800
TZOFFSETTO:-0700
TZNAME:PDT
DTSTART:20230312T100000
END:DAYLIGHT
BEGIN:STANDARD
TZOFFSETFROM:-0700
TZOFFSETTO:-0800
TZNAME:PST
DTSTART:20231105T090000
END:STANDARD
END:VTIMEZONE
BEGIN:VEVENT
DTSTART;TZID=America/Los_Angeles:20220403T090000
DTEND;TZID=America/Los_Angeles:20220403T093000
DTSTAMP:20260419T071624
CREATED:20161209T025016Z
LAST-MODIFIED:20231102T181538Z
UID:10000195-1648976400-1648978200@unitypaloalto.org
SUMMARY:Sunday Morning Meditation
DESCRIPTION:Begin your week centered\, focused\, and empowered at our Sunday Morning Meditation. \nRegister once in advance for this meeting and you may participate every Sunday (NEW registration as of 11/02/2023)\nhttps://us02web.zoom.us/meeting/register/tZYscuCgrz8uEtNHziCwg8DZgIyzU1mvYbKfqdq-wkh5twd-gea*DUG \nAfter registering\, you will receive a confirmation email containing information about joining the meeting.
URL:https://unitypaloalto.org/event/sunday-meditation/2022-04-03/
CATEGORIES:Activity
ATTACH;FMTTYPE=image/jpeg:https://unitypaloalto.org/wp-content/uploads/Meditation-1.jpg
END:VEVENT
BEGIN:VEVENT
DTSTART;TZID=America/Los_Angeles:20220403T100000
DTEND;TZID=America/Los_Angeles:20220403T110000
DTSTAMP:20260419T071624
CREATED:20211223T200353Z
LAST-MODIFIED:20221119T155256Z
UID:10000146-1648980000-1648983600@unitypaloalto.org
SUMMARY:Sunday Celebration Service
DESCRIPTION:Fresh and modern spirituality\, speakers\, and music\nIn-person & live stream \nSunday mornings are uplifting\, inspirational\, and fun! The forward-thinking\, practical spiritual messages you’ll hear on Sunday will help you with the real-life issues you face during the week. Celebrate with us on Sunday in person or at www.UnityPaloAlto.org/live. Catch up on a previous service at unitypaloalto.org/service-recordings.
URL:https://unitypaloalto.org/event/sunday-celebration-service-5/2022-04-03/
END:VEVENT
BEGIN:VEVENT
DTSTART;TZID=America/Los_Angeles:20220410T090000
DTEND;TZID=America/Los_Angeles:20220410T093000
DTSTAMP:20260419T071624
CREATED:20161209T025016Z
LAST-MODIFIED:20231102T181538Z
UID:10000196-1649581200-1649583000@unitypaloalto.org
SUMMARY:Sunday Morning Meditation
DESCRIPTION:Begin your week centered\, focused\, and empowered at our Sunday Morning Meditation. \nRegister once in advance for this meeting and you may participate every Sunday (NEW registration as of 11/02/2023)\nhttps://us02web.zoom.us/meeting/register/tZYscuCgrz8uEtNHziCwg8DZgIyzU1mvYbKfqdq-wkh5twd-gea*DUG \nAfter registering\, you will receive a confirmation email containing information about joining the meeting.
URL:https://unitypaloalto.org/event/sunday-meditation/2022-04-10/
CATEGORIES:Activity
ATTACH;FMTTYPE=image/jpeg:https://unitypaloalto.org/wp-content/uploads/Meditation-1.jpg
END:VEVENT
BEGIN:VEVENT
DTSTART;TZID=America/Los_Angeles:20220410T100000
DTEND;TZID=America/Los_Angeles:20220410T110000
DTSTAMP:20260419T071624
CREATED:20211223T200353Z
LAST-MODIFIED:20221119T155256Z
UID:10000147-1649584800-1649588400@unitypaloalto.org
SUMMARY:Sunday Celebration Service
DESCRIPTION:Fresh and modern spirituality\, speakers\, and music\nIn-person & live stream \nSunday mornings are uplifting\, inspirational\, and fun! The forward-thinking\, practical spiritual messages you’ll hear on Sunday will help you with the real-life issues you face during the week. Celebrate with us on Sunday in person or at www.UnityPaloAlto.org/live. Catch up on a previous service at unitypaloalto.org/service-recordings.
URL:https://unitypaloalto.org/event/sunday-celebration-service-5/2022-04-10/
END:VEVENT
BEGIN:VEVENT
DTSTART;TZID=America/Los_Angeles:20220410T113000
DTEND;TZID=America/Los_Angeles:20220410T123000
DTSTAMP:20260419T071624
CREATED:20220104T000500Z
LAST-MODIFIED:20220322T043332Z
UID:10000095-1649590200-1649593800@unitypaloalto.org
SUMMARY:Write Your Story
DESCRIPTION:An experience of writing your life stories\nGroup-led\nWe are meeting in April on 4/10 instead of 4/17 due to Easter\nRegister for the Zoom event:\nhttps://us02web.zoom.us/meeting/register/tZAtcuiurj4tG9xwP1DwIL3_gSLTkkT-XExw \nStories\, memories\, tales of the past\, call them what you will\, memories matter. History paints a broad picture of the world\, national and local times and events but says little about the individuals who lived through those times. Memories are not experiences to be relived and constantly aired\, but to be looked at learned from\, and shared so the future may see how life used to be. \nEach month this group comes together to develop writing skills\, inspire each other\, and share stories. A topic for writing is chosen by the group at the end of each session. Each session is group-facilitated. \nMaterials; Journal\, Life is a Song\, Sing It by Joyce Riley (Optional)
URL:https://unitypaloalto.org/event/write-your-story-2-2022-02-20-2022-04-17/
ATTACH;FMTTYPE=image/png:https://unitypaloalto.org/wp-content/uploads/Write-Your-Story.png
END:VEVENT
BEGIN:VEVENT
DTSTART;TZID=America/Los_Angeles:20220415T180000
DTEND;TZID=America/Los_Angeles:20220415T190000
DTSTAMP:20260419T071624
CREATED:20220320T024047Z
LAST-MODIFIED:20220413T191810Z
UID:10000109-1650045600-1650049200@unitypaloalto.org
SUMMARY:Holy Week Meditation Service 
DESCRIPTION:With Casey Wicker\nIn-person and on Zoom (Hybrid)\nZoom Registration: https://us02web.zoom.us/meeting/register/tZIkduGoqzIoHdzPTXdjd_n17pIPjF3flMG1 \nDuring this meditation service\, we will look at Holy Week through metaphysical interpretation. Through readings\, music\, and times of silence\, we will be invited to release erroneous thoughts and beliefs and embrace a new understanding of ourselves as the “I Am\,” the Christ presence. We will travel with the way-shower\, Jesus\, on a journey to Jerusalem\, our metaphysical “habitation of peace.”
URL:https://unitypaloalto.org/event/holy-week-meditation-service-2/
CATEGORIES:activity-hybrid,home-feature
ATTACH;FMTTYPE=image/jpeg:https://unitypaloalto.org/wp-content/uploads/HolyWeekMeditation.jpg
END:VEVENT
BEGIN:VEVENT
DTSTART;TZID=America/Los_Angeles:20220417T090000
DTEND;TZID=America/Los_Angeles:20220417T093000
DTSTAMP:20260419T071624
CREATED:20161209T025016Z
LAST-MODIFIED:20231102T181538Z
UID:10000197-1650186000-1650187800@unitypaloalto.org
SUMMARY:Sunday Morning Meditation
DESCRIPTION:Begin your week centered\, focused\, and empowered at our Sunday Morning Meditation. \nRegister once in advance for this meeting and you may participate every Sunday (NEW registration as of 11/02/2023)\nhttps://us02web.zoom.us/meeting/register/tZYscuCgrz8uEtNHziCwg8DZgIyzU1mvYbKfqdq-wkh5twd-gea*DUG \nAfter registering\, you will receive a confirmation email containing information about joining the meeting.
URL:https://unitypaloalto.org/event/sunday-meditation/2022-04-17/
CATEGORIES:Activity
ATTACH;FMTTYPE=image/jpeg:https://unitypaloalto.org/wp-content/uploads/Meditation-1.jpg
END:VEVENT
BEGIN:VEVENT
DTSTART;TZID=America/Los_Angeles:20220417T100000
DTEND;TZID=America/Los_Angeles:20220417T110000
DTSTAMP:20260419T071624
CREATED:20211223T200353Z
LAST-MODIFIED:20221119T155256Z
UID:10000148-1650189600-1650193200@unitypaloalto.org
SUMMARY:Sunday Celebration Service
DESCRIPTION:Fresh and modern spirituality\, speakers\, and music\nIn-person & live stream \nSunday mornings are uplifting\, inspirational\, and fun! The forward-thinking\, practical spiritual messages you’ll hear on Sunday will help you with the real-life issues you face during the week. Celebrate with us on Sunday in person or at www.UnityPaloAlto.org/live. Catch up on a previous service at unitypaloalto.org/service-recordings.
URL:https://unitypaloalto.org/event/sunday-celebration-service-5/2022-04-17/
END:VEVENT
BEGIN:VEVENT
DTSTART;TZID=America/Los_Angeles:20220417T113000
DTEND;TZID=America/Los_Angeles:20220417T123000
DTSTAMP:20260419T071624
CREATED:20220104T000500Z
LAST-MODIFIED:20220316T230339Z
UID:10000102-1650195000-1650198600@unitypaloalto.org
SUMMARY:Write Your Story
DESCRIPTION:An experience of writing your life stories\nGroup-led on the 3rd Sunday\nRegister for the Zoom event:\nhttps://us02web.zoom.us/meeting/register/tZAtcuiurj4tG9xwP1DwIL3_gSLTkkT-XExw \nStories\, memories\, tales of the past\, call them what you will\, memories matter. History paints a broad picture of world\, national and local times and events but says little about the individuals who lived through those times. Memories are not experiences to be relived and constantly aired\, but to be looked at learned from\, and shared so the future may see how life used to be. \nEach month this group comes together to develop writing skills\, inspire each other\, and share stories. A topic for writing is chosen by the group at the end of each session. Each session is group-facilitated. \nMaterials; Journal\, Life is a Song\, Sing It by Joyce Riley (Optional)
URL:https://unitypaloalto.org/event/write-your-story-2/2022-04-17/
ATTACH;FMTTYPE=image/png:https://unitypaloalto.org/wp-content/uploads/Write-Your-Story.png
END:VEVENT
BEGIN:VEVENT
DTSTART;TZID=America/Los_Angeles:20220417T113000
DTEND;TZID=America/Los_Angeles:20220417T123000
DTSTAMP:20260419T071624
CREATED:20220104T000500Z
LAST-MODIFIED:20220317T173206Z
UID:10000013-1650195000-1650198600@unitypaloalto.org
SUMMARY:Write Your Story
DESCRIPTION:An experience of writing your life stories\nGroup-led on the 3rd Sunday\nRegister for the Zoom event:\nhttps://us02web.zoom.us/meeting/register/tZAtcuiurj4tG9xwP1DwIL3_gSLTkkT-XExw \nStories\, memories\, tales of the past\, call them what you will\, memories matter. History paints a broad picture of world\, national and local times and events but says little about the individuals who lived through those times. Memories are not experiences to be relived and constantly aired\, but to be looked at learned from\, and shared so the future may see how life used to be. \nEach month this group comes together to develop writing skills\, inspire each other\, and share stories. A topic for writing is chosen by the group at the end of each session. Each session is group-facilitated. \nMaterials; Journal\, Life is a Song\, Sing It by Joyce Riley (Optional)
URL:https://unitypaloalto.org/event/write-your-story-2-2022-02-20/2022-04-17/
ATTACH;FMTTYPE=image/png:https://unitypaloalto.org/wp-content/uploads/Write-Your-Story.png
END:VEVENT
BEGIN:VEVENT
DTSTART;TZID=America/Los_Angeles:20220420T180000
DTEND;TZID=America/Los_Angeles:20220420T190000
DTSTAMP:20260419T071624
CREATED:20220312T192532Z
LAST-MODIFIED:20220609T203444Z
UID:10000112-1650477600-1650481200@unitypaloalto.org
SUMMARY:Getting Real With Race
DESCRIPTION:With Dr. Cindy Ackerman\nWednesdays\, 4/20-6/22 @ 6:00 – 7:30 pm on Zoom\nRegister for the dates you wish to attend \nThere is a warm welcome for EVERYONE to join in this vital discussion. Join us at any level of exchange which you are able; all are welcome to attend; simply select the date you want to attend and if you choose\, consider a Love Offering in any amount. No one will be turned away for lack of funds. \nThe meeting starts at 6 pm and lasts approximately 90 minutes.\nTopics for discussion may be subject to change: \n\nWhite Privilege\nWhite Fragility\nWhere Are All the Black Folks at Unity?\nThe Real History of Black Lives in America and Why That Matters.\nWhat Did the Doll Test Teach Us About Racism and Self-image?\nThe Legalization of Racism\nImagining a Community of Unity of Colors\nMicroAggressions: Racism Lite\nBeing a Bystander vs. Courageous\nThe Challenge of the “Single Story” – How We View Others Through Our Racial Lens\n\nRegister Today at https://unityinmarin.churchcenter.com/registrations/events/1220006\nThis class is offered in partnership with Unity in Marin. If you have any trouble registering\, please contact the Unity in Marin Office at dori@unityinmarin.org or call 415-475-5000\, extension. 0 (zero). \n\n		\n			\n				\n			\n			\n		 \n		\n			About Dr. Cindy Ackerman\nDr. Cindy Acker\, Ed.D. Acker lives and works in the City of Alameda. She is the founder of The Child Unique and The Montessori Elementary Intermediate School of Alameda (MEISA) and has served as principal for over 30 years. She has several degrees in education\, human development\, spirituality\, cultural studies\, and a doctorate in Educational Leadership from UC Berkeley. Acker has also been involved in public policy\, representing Montessori schools in California. She is a published author and a national keynote speaker.
URL:https://unitypaloalto.org/event/getting-real-with-race/2022-04-20/
ATTACH;FMTTYPE=image/png:https://unitypaloalto.org/wp-content/uploads/GettingRealWithRace.png
END:VEVENT
BEGIN:VEVENT
DTSTART;VALUE=DATE:20220424
DTEND;VALUE=DATE:20220425
DTSTAMP:20260419T071624
CREATED:20220413T233219Z
LAST-MODIFIED:20220413T234946Z
UID:10000132-1650758400-1650844799@unitypaloalto.org
SUMMARY:Unpacking Race and Racism: Becoming White Allies 2.0
DESCRIPTION:Are you a white person who is disturbed by matters of race and racism in the United States? Being disturbed is a good thing. It means your intellect recognizes injustice and unfairness and your heart is feeling the resulting pain. Psychology tells us that the most effective means of handling pain is to move into it and through it. \nThe AntiRacism Institute offers a safe and supportive way for you to deal with the injustice of racism. Sitting at the feet of a Black man\, Emmanuel Acho\, author of Uncomfortable Conversations With a Black Man\, a trained facilitator will guide you through uncomfortable conversations as you learn what you didn’t know you didn’t know. You’ll progress through a proven path of racial awareness\, racial literacy\, and racial action. Graduates from “Unpacking 2.0” engage in a racial equity project (your own or with a group) equipped with the core competencies of a white ally.  You’ll find YOUR answer to the question … \n“As a white person\, what can I DO?” \nThis Transformative Program Begins the Week of April 24th! \nIn partnership with The AntiRacism Institute\n7 X 90-minute sessions\nMeet weekly in a virtual pod (small group of 8)\nMultiple days and times to choose from\nWeek of April 24th to Week of June 5th \nUse the link below to register now. Seats are limited. \nhttps://rebrand.ly/unpacking-racism-M0424-22
URL:https://unitypaloalto.org/event/unpacking-race-and-racism-becoming-white-allies-2-0/
CATEGORIES:home-feature
ATTACH;FMTTYPE=image/jpeg:https://unitypaloalto.org/wp-content/uploads/Unpacking.jpg
END:VEVENT
BEGIN:VEVENT
DTSTART;TZID=America/Los_Angeles:20220424T090000
DTEND;TZID=America/Los_Angeles:20220424T093000
DTSTAMP:20260419T071624
CREATED:20161209T025016Z
LAST-MODIFIED:20231102T181538Z
UID:10000198-1650790800-1650792600@unitypaloalto.org
SUMMARY:Sunday Morning Meditation
DESCRIPTION:Begin your week centered\, focused\, and empowered at our Sunday Morning Meditation. \nRegister once in advance for this meeting and you may participate every Sunday (NEW registration as of 11/02/2023)\nhttps://us02web.zoom.us/meeting/register/tZYscuCgrz8uEtNHziCwg8DZgIyzU1mvYbKfqdq-wkh5twd-gea*DUG \nAfter registering\, you will receive a confirmation email containing information about joining the meeting.
URL:https://unitypaloalto.org/event/sunday-meditation/2022-04-24/
CATEGORIES:Activity
ATTACH;FMTTYPE=image/jpeg:https://unitypaloalto.org/wp-content/uploads/Meditation-1.jpg
END:VEVENT
BEGIN:VEVENT
DTSTART;TZID=America/Los_Angeles:20220424T100000
DTEND;TZID=America/Los_Angeles:20220424T110000
DTSTAMP:20260419T071624
CREATED:20211223T200353Z
LAST-MODIFIED:20221119T155256Z
UID:10000149-1650794400-1650798000@unitypaloalto.org
SUMMARY:Sunday Celebration Service
DESCRIPTION:Fresh and modern spirituality\, speakers\, and music\nIn-person & live stream \nSunday mornings are uplifting\, inspirational\, and fun! The forward-thinking\, practical spiritual messages you’ll hear on Sunday will help you with the real-life issues you face during the week. Celebrate with us on Sunday in person or at www.UnityPaloAlto.org/live. Catch up on a previous service at unitypaloalto.org/service-recordings.
URL:https://unitypaloalto.org/event/sunday-celebration-service-5/2022-04-24/
END:VEVENT
BEGIN:VEVENT
DTSTART;TZID=America/Los_Angeles:20220425T183000
DTEND;TZID=America/Los_Angeles:20220425T203000
DTSTAMP:20260419T071624
CREATED:20220220T013155Z
LAST-MODIFIED:20220220T015052Z
UID:10000124-1650911400-1650918600@unitypaloalto.org
SUMMARY:Board of Trustees Monthly Meeting
DESCRIPTION:Our Board of Trustees serves as a model for putting Unity Principles to work at our Spiritual Center. Always putting Spirit first\, we lead from a consciousness of abundance\, love\, and understanding. Throughout this unprecedented experience of the COVID-19 pandemic\, your Board has been closely monitoring the finances of our spiritual center and we are committed to keeping you up to date on our financial status. During this time of Shelter-In-Place\, we are holding our meetings with Zoom. \nYou are welcome to attend the meeting beginning at 6:30 pm. You have two opportunities to participate during the meeting: at the beginning after the approval of the previous meeting’s minutes and towards the end after the action item review. \nPlease register for the meeting. Once registered\, you can join any meeting. Register at:\nhttps://us02web.zoom.us/meeting/register/tZcpdeurqjwqHtzbFttnSmE4yMlpQx8AMCLn \nZoom Meeting ID: 834 2234 7048\nPasscode: 950927\nLink once the meeting begins:\nhttps://us02web.zoom.us/j/83422347048?pwd=MzdMc2lUS29aeEk4WHdZeW80RS9vUT09
URL:https://unitypaloalto.org/event/board-of-trustees-monthly-meeting-3/2022-04-25/
ATTACH;FMTTYPE=image/png:https://unitypaloalto.org/wp-content/uploads/BOT-Mtg-400.png
END:VEVENT
BEGIN:VEVENT
DTSTART;TZID=America/Los_Angeles:20220427T180000
DTEND;TZID=America/Los_Angeles:20220427T190000
DTSTAMP:20260419T071624
CREATED:20220312T192532Z
LAST-MODIFIED:20220609T203444Z
UID:10000113-1651082400-1651086000@unitypaloalto.org
SUMMARY:Getting Real With Race
DESCRIPTION:With Dr. Cindy Ackerman\nWednesdays\, 4/20-6/22 @ 6:00 – 7:30 pm on Zoom\nRegister for the dates you wish to attend \nThere is a warm welcome for EVERYONE to join in this vital discussion. Join us at any level of exchange which you are able; all are welcome to attend; simply select the date you want to attend and if you choose\, consider a Love Offering in any amount. No one will be turned away for lack of funds. \nThe meeting starts at 6 pm and lasts approximately 90 minutes.\nTopics for discussion may be subject to change: \n\nWhite Privilege\nWhite Fragility\nWhere Are All the Black Folks at Unity?\nThe Real History of Black Lives in America and Why That Matters.\nWhat Did the Doll Test Teach Us About Racism and Self-image?\nThe Legalization of Racism\nImagining a Community of Unity of Colors\nMicroAggressions: Racism Lite\nBeing a Bystander vs. Courageous\nThe Challenge of the “Single Story” – How We View Others Through Our Racial Lens\n\nRegister Today at https://unityinmarin.churchcenter.com/registrations/events/1220006\nThis class is offered in partnership with Unity in Marin. If you have any trouble registering\, please contact the Unity in Marin Office at dori@unityinmarin.org or call 415-475-5000\, extension. 0 (zero). \n\n		\n			\n				\n			\n			\n		 \n		\n			About Dr. Cindy Ackerman\nDr. Cindy Acker\, Ed.D. Acker lives and works in the City of Alameda. She is the founder of The Child Unique and The Montessori Elementary Intermediate School of Alameda (MEISA) and has served as principal for over 30 years. She has several degrees in education\, human development\, spirituality\, cultural studies\, and a doctorate in Educational Leadership from UC Berkeley. Acker has also been involved in public policy\, representing Montessori schools in California. She is a published author and a national keynote speaker.
URL:https://unitypaloalto.org/event/getting-real-with-race/2022-04-27/
ATTACH;FMTTYPE=image/png:https://unitypaloalto.org/wp-content/uploads/GettingRealWithRace.png
END:VEVENT
END:VCALENDAR