BEGIN:VCALENDAR
VERSION:2.0
PRODID:-//Unity Palo Alto - ECPv6.15.20//NONSGML v1.0//EN
CALSCALE:GREGORIAN
METHOD:PUBLISH
X-WR-CALNAME:Unity Palo Alto
X-ORIGINAL-URL:https://unitypaloalto.org
X-WR-CALDESC:Events for Unity Palo Alto
REFRESH-INTERVAL;VALUE=DURATION:PT1H
X-Robots-Tag:noindex
X-PUBLISHED-TTL:PT1H
BEGIN:VTIMEZONE
TZID:America/Los_Angeles
BEGIN:STANDARD
TZOFFSETFROM:-0800
TZOFFSETTO:-0800
TZNAME:PST
DTSTART:20260101T000000
END:STANDARD
END:VTIMEZONE
BEGIN:VEVENT
DTSTART;TZID=America/Los_Angeles:20220131T120000
DTEND;TZID=America/Los_Angeles:20220131T130000
DTSTAMP:20260419T134324
CREATED:20220101T231702Z
LAST-MODIFIED:20220124T153257Z
UID:10000087-1643630400-1643634000@unitypaloalto.org
SUMMARY:13 Things You Must Give Up to Live The Life You Want
DESCRIPTION:A 2-Part Zoom Workshop on\nMonday 1/24 & 1/31 @ Noon – 1:00 pm Pacific\nWith Moj Razmi\, Transformational Coach\nLove offering\nRegister at:\nhttps://us02web.zoom.us/meeting/register/tZUrf-qrqjosGNyziVH58ZEDyiarfYBHNhp9 \nRelease what doesn’t serve anymore and start 2022 baggage-free! Experience simple letting go practices to go from stressed to blessed.
URL:https://unitypaloalto.org/event/13-things-you-must-give-up-to-live-the-life-you-want/2022-01-31/
CATEGORIES:home-feature
ATTACH;FMTTYPE=image/png:https://unitypaloalto.org/wp-content/uploads/MojRazmi.png
END:VEVENT
BEGIN:VEVENT
DTSTART;TZID=America/Los_Angeles:20220130T130000
DTEND;TZID=America/Los_Angeles:20220130T150000
DTSTAMP:20260419T134324
CREATED:20220130T163632Z
LAST-MODIFIED:20220130T163834Z
UID:10000130-1643547600-1643554800@unitypaloalto.org
SUMMARY:A Season For Nonviolence
DESCRIPTION:The Season for Nonviolence marks the 64 days between the memorial anniversaries of Mohandas Gandhi and Martin Luther King Jr. It was co-founded by Arun and Sunanda Gandhi and the Leadership Council of The Association for Global New Thought (AGNT) in 1998. We learn to practice nonviolence one step at a time\, one choice at a time\, one day at a time. Through our daily nonviolent choices and action\, our noble and courageous spirits rise to move the world in the direction of peace. \nKick-off event on YouTube\, 1/30 @ 1:00 pm: https://www.youtube.com/watch?v=vA2aByNE-bs\nFeaturing: Michael Beckwith\, Roger Feel\, Shariff Abdullah\, Deborah Johnson\, Faith Rivera and Harold Payne.
URL:https://unitypaloalto.org/event/a-season-for-nonviolence/
CATEGORIES:home-feature
ATTACH;FMTTYPE=image/webp:https://unitypaloalto.org/wp-content/uploads/25.webp
END:VEVENT
BEGIN:VEVENT
DTSTART;TZID=America/Los_Angeles:20220130T120000
DTEND;TZID=America/Los_Angeles:20220130T140000
DTSTAMP:20260419T134324
CREATED:20220102T001757Z
LAST-MODIFIED:20220124T152949Z
UID:10000098-1643544000-1643551200@unitypaloalto.org
SUMMARY:Unity Basics: The Five Principles
DESCRIPTION:A 3-Part Unity Palo Alto New Member Class\nWith Rev. John Riley\nSundays 1/16 – 1/30 @ Noon – 2:00 on Zoom\nRegister:\nhttps://forms.gle/rCjkCrXkPGRtSsP69 \nAn exploration into the foundations of Unity\, our five basic principles\, and Unity Palo Alto. Materials for the class are The Principles: A Guide to Practical Spirituality by Rev. Ellen Debenport\, available in the bookstore\, and a journal.
URL:https://unitypaloalto.org/event/unity-basics-the-five-principles/2022-01-30/
ATTACH;FMTTYPE=image/png:https://unitypaloalto.org/wp-content/uploads/5Principles-400x235-1.png
END:VEVENT
BEGIN:VEVENT
DTSTART;TZID=America/Los_Angeles:20220130T100000
DTEND;TZID=America/Los_Angeles:20220130T110000
DTSTAMP:20260419T134324
CREATED:20211223T200353Z
LAST-MODIFIED:20221119T155256Z
UID:10000137-1643536800-1643540400@unitypaloalto.org
SUMMARY:Sunday Celebration Service
DESCRIPTION:Fresh and modern spirituality\, speakers\, and music\nIn-person & live stream \nSunday mornings are uplifting\, inspirational\, and fun! The forward-thinking\, practical spiritual messages you’ll hear on Sunday will help you with the real-life issues you face during the week. Celebrate with us on Sunday in person or at www.UnityPaloAlto.org/live. Catch up on a previous service at unitypaloalto.org/service-recordings.
URL:https://unitypaloalto.org/event/sunday-celebration-service-5/2022-01-30/
END:VEVENT
BEGIN:VEVENT
DTSTART;TZID=America/Los_Angeles:20220130T090000
DTEND;TZID=America/Los_Angeles:20220130T093000
DTSTAMP:20260419T134324
CREATED:20161209T025016Z
LAST-MODIFIED:20231102T181538Z
UID:10000186-1643533200-1643535000@unitypaloalto.org
SUMMARY:Sunday Morning Meditation
DESCRIPTION:Begin your week centered\, focused\, and empowered at our Sunday Morning Meditation. \nRegister once in advance for this meeting and you may participate every Sunday (NEW registration as of 11/02/2023)\nhttps://us02web.zoom.us/meeting/register/tZYscuCgrz8uEtNHziCwg8DZgIyzU1mvYbKfqdq-wkh5twd-gea*DUG \nAfter registering\, you will receive a confirmation email containing information about joining the meeting.
URL:https://unitypaloalto.org/event/sunday-meditation/2022-01-30/
CATEGORIES:Activity
ATTACH;FMTTYPE=image/jpeg:https://unitypaloalto.org/wp-content/uploads/Meditation-1.jpg
END:VEVENT
BEGIN:VEVENT
DTSTART;TZID=America/Los_Angeles:20220116T113000
DTEND;TZID=America/Los_Angeles:20220116T123000
DTSTAMP:20260419T134324
CREATED:20220104T000500Z
LAST-MODIFIED:20220316T230339Z
UID:10000099-1642332600-1642336200@unitypaloalto.org
SUMMARY:Write Your Story
DESCRIPTION:An experience of writing your life stories\nGroup-led on the 3rd Sunday\nRegister for the Zoom event:\nhttps://us02web.zoom.us/meeting/register/tZAtcuiurj4tG9xwP1DwIL3_gSLTkkT-XExw \nStories\, memories\, tales of the past\, call them what you will\, memories matter. History paints a broad picture of world\, national and local times and events but says little about the individuals who lived through those times. Memories are not experiences to be relived and constantly aired\, but to be looked at learned from\, and shared so the future may see how life used to be. \nEach month this group comes together to develop writing skills\, inspire each other\, and share stories. A topic for writing is chosen by the group at the end of each session. Each session is group-facilitated. \nMaterials; Journal\, Life is a Song\, Sing It by Joyce Riley (Optional)
URL:https://unitypaloalto.org/event/write-your-story-2/2022-01-16/
ATTACH;FMTTYPE=image/png:https://unitypaloalto.org/wp-content/uploads/Write-Your-Story.png
END:VEVENT
BEGIN:VEVENT
DTSTART;TZID=America/Los_Angeles:20220102T100000
DTEND;TZID=America/Los_Angeles:20220102T110000
DTSTAMP:20260419T134324
CREATED:20211203T014155Z
LAST-MODIFIED:20211223T204244Z
UID:10000017-1641117600-1641121200@unitypaloalto.org
SUMMARY:White Stone Service
DESCRIPTION:In-Person and on Live Stream\nPlease review our COVID-19 Policies before attending\nPlease RSVP below \nWe start the year with a fresh\, clear outlook on life. During the talk\, you are encouraged to think about who you want to be in the coming year. Different from New Year’s Resolutions\, this process is about discerning a spiritual value or word that you want to express more fully. You receive a white stone and are invited to write your word upon the stone and use it as a reminder of who you’ve come here to be. \nMasks\, proof of vaccination\, and photo identification are required to attend in person. Click here to review our COVID-19 Policies \nPlease RSVP for the In-Person Services using the Google form here:\n\nhttps://forms.gle/vCvDB5hbji7NwNSB7
URL:https://unitypaloalto.org/event/white-stone-service-2022/
CATEGORIES:activity-hybrid,home-feature
ATTACH;FMTTYPE=image/jpeg:https://unitypaloalto.org/wp-content/uploads/WhiteStone-320x188.jpg
END:VEVENT
BEGIN:VEVENT
DTSTART;TZID=America/Los_Angeles:00260401T150000
DTEND;TZID=America/Los_Angeles:00260401T160000
DTSTAMP:20260419T134324
CREATED:20260307T011035Z
LAST-MODIFIED:20260307T011035Z
UID:10005171--61338848400--61338844800@unitypaloalto.org
SUMMARY:test 3
DESCRIPTION:Something is happening at Unity Palo Alto on April 1\, and you are invited. Test 3 is a one-hour in-person gathering running from 3:00 to 4:00 PM at our campus. Whether you are new to Unity or a familiar face in our community\, this is an opportunity to step away from the busyness of the day and show up for something that matters. \nThe event takes place in a warm\, welcoming space on our campus. Over the course of an hour\, attendees will have the chance to be present\, connect\, and engage with the Unity Palo Alto community in a setting designed to feel open and supportive. \nPeople who are looking for a simple\, low-pressure way to experience what Unity Palo Alto is about will find this event to be a natural fit. It is a gentle entry point for anyone curious about our community\, as well as a meaningful hour for those who are already part of it. \nThis event is open to all and takes place in person at our Unity Palo Alto campus. For questions about the event or to learn more\, reach out to us directly. \nDate: April 1\, 2026Time: 3:00 PM — 4:00 PMLocation: Unity Palo AltoAddress: N/APhone: 650.849.1100Email: connecting@unitypaloalto.org
URL:https://unitypaloalto.org/event/test-3/
END:VEVENT
END:VCALENDAR