BEGIN:VCALENDAR
VERSION:2.0
PRODID:-//Unity Palo Alto - ECPv6.15.20//NONSGML v1.0//EN
CALSCALE:GREGORIAN
METHOD:PUBLISH
X-WR-CALNAME:Unity Palo Alto
X-ORIGINAL-URL:https://unitypaloalto.org
X-WR-CALDESC:Events for Unity Palo Alto
REFRESH-INTERVAL;VALUE=DURATION:PT1H
X-Robots-Tag:noindex
X-PUBLISHED-TTL:PT1H
BEGIN:VTIMEZONE
TZID:America/Los_Angeles
BEGIN:DAYLIGHT
TZOFFSETFROM:-0800
TZOFFSETTO:-0700
TZNAME:PDT
DTSTART:20250309T100000
END:DAYLIGHT
BEGIN:STANDARD
TZOFFSETFROM:-0700
TZOFFSETTO:-0800
TZNAME:PST
DTSTART:20251102T090000
END:STANDARD
BEGIN:DAYLIGHT
TZOFFSETFROM:-0800
TZOFFSETTO:-0700
TZNAME:PDT
DTSTART:20260308T100000
END:DAYLIGHT
BEGIN:STANDARD
TZOFFSETFROM:-0700
TZOFFSETTO:-0800
TZNAME:PST
DTSTART:20261101T090000
END:STANDARD
BEGIN:DAYLIGHT
TZOFFSETFROM:-0800
TZOFFSETTO:-0700
TZNAME:PDT
DTSTART:20270314T100000
END:DAYLIGHT
BEGIN:STANDARD
TZOFFSETFROM:-0700
TZOFFSETTO:-0800
TZNAME:PST
DTSTART:20271107T090000
END:STANDARD
END:VTIMEZONE
BEGIN:VEVENT
DTSTART;TZID=America/Los_Angeles:20260111T100000
DTEND;TZID=America/Los_Angeles:20260111T110000
DTSTAMP:20260422T194909
CREATED:20240104T192943Z
LAST-MODIFIED:20260311T212800Z
UID:10002427-1768125600-1768129200@unitypaloalto.org
SUMMARY:Sunday Celebration Service
DESCRIPTION:Fresh and modern spirituality\, speakers\, and music\nIn-person and on live stream \nSunday mornings are uplifting\, inspirational\, and fun! The forward-thinking\, practical spiritual messages you’ll hear on Sunday will help you with the real-life issues you face during the week. Celebrate with us on Sunday in person or at www.UnityPaloAlto.org/live. Catch up on a previous service at unitypaloalto.org/service-recordings.
URL:https://unitypaloalto.org/event/sunday-celebration-service/2026-01-11/
LOCATION:At Unity Palo Alto & Live Stream
CATEGORIES:service
ATTACH;FMTTYPE=image/jpeg:https://unitypaloalto.org/wp-content/uploads/Sunday-event.jpg
END:VEVENT
BEGIN:VEVENT
DTSTART;TZID=America/Los_Angeles:20260114T180000
DTEND;TZID=America/Los_Angeles:20260114T193000
DTSTAMP:20260422T194909
CREATED:20260105T190512Z
LAST-MODIFIED:20260111T052443Z
UID:10003972-1768413600-1768419000@unitypaloalto.org
SUMMARY:A Course in Miracles Weekly Zoom
DESCRIPTION:
URL:https://unitypaloalto.org/event/a-course-in-miracles-study-group-2/2026-01-14/
LOCATION:On Zoom
CATEGORIES:Activity
ATTACH;FMTTYPE=image/jpeg:https://unitypaloalto.org/wp-content/uploads/ACIM-Weekly-Meeting.jpg
END:VEVENT
BEGIN:VEVENT
DTSTART;TZID=America/Los_Angeles:20260118T090000
DTEND;TZID=America/Los_Angeles:20260118T093000
DTSTAMP:20260422T194909
CREATED:20221230T180943Z
LAST-MODIFIED:20250701T023037Z
UID:10001853-1768726800-1768728600@unitypaloalto.org
SUMMARY:Sunday Morning Meditation
DESCRIPTION:Begin your week centered\, focused\, and empowered at our Sunday Morning Meditation. \nJoin us in the UPA Learning Center or Register for the Zoom
URL:https://unitypaloalto.org/event/sunday-morning-meditation/2026-01-18/
LOCATION:At the UPA Learning Center & on Zoom\, Middlefield Road\, Palo Alto\, CA\, 94306\, United States
CATEGORIES:Activity
ATTACH;FMTTYPE=image/jpeg:https://unitypaloalto.org/wp-content/uploads/Meditation-1.jpg
GEO:37.4267118;-122.1182989
X-APPLE-STRUCTURED-LOCATION;VALUE=URI;X-ADDRESS=At the UPA Learning Center & on Zoom Middlefield Road Palo Alto CA 94306 United States;X-APPLE-RADIUS=500;X-TITLE=Middlefield Road:geo:-122.1182989,37.4267118
END:VEVENT
BEGIN:VEVENT
DTSTART;TZID=America/Los_Angeles:20260118T100000
DTEND;TZID=America/Los_Angeles:20260118T110000
DTSTAMP:20260422T194909
CREATED:20240104T192943Z
LAST-MODIFIED:20260311T212800Z
UID:10002428-1768730400-1768734000@unitypaloalto.org
SUMMARY:Sunday Celebration Service
DESCRIPTION:Fresh and modern spirituality\, speakers\, and music\nIn-person and on live stream \nSunday mornings are uplifting\, inspirational\, and fun! The forward-thinking\, practical spiritual messages you’ll hear on Sunday will help you with the real-life issues you face during the week. Celebrate with us on Sunday in person or at www.UnityPaloAlto.org/live. Catch up on a previous service at unitypaloalto.org/service-recordings.
URL:https://unitypaloalto.org/event/sunday-celebration-service/2026-01-18/
LOCATION:At Unity Palo Alto & Live Stream
CATEGORIES:service
ATTACH;FMTTYPE=image/jpeg:https://unitypaloalto.org/wp-content/uploads/Sunday-event.jpg
END:VEVENT
BEGIN:VEVENT
DTSTART;TZID=America/Los_Angeles:20260120T190000
DTEND;TZID=America/Los_Angeles:20260120T201500
DTSTAMP:20260422T194909
CREATED:20260120T193130Z
LAST-MODIFIED:20260416T143605Z
UID:10004715-1768935600-1768940100@unitypaloalto.org
SUMMARY:Tuesday Night Kundalini Yoga
DESCRIPTION:
URL:https://unitypaloalto.org/event/tuesday-night-yoga/2026-01-20/
LOCATION:At the UPA Fireside Room\, Middlefield Road\, Palo Alto\, CA\, 94306\, United States
CATEGORIES:Activity
ATTACH;FMTTYPE=image/png:https://unitypaloalto.org/wp-content/uploads/Yoga.png
GEO:37.4267118;-122.1182989
X-APPLE-STRUCTURED-LOCATION;VALUE=URI;X-ADDRESS=At the UPA Fireside Room Middlefield Road Palo Alto CA 94306 United States;X-APPLE-RADIUS=500;X-TITLE=Middlefield Road:geo:-122.1182989,37.4267118
END:VEVENT
BEGIN:VEVENT
DTSTART;TZID=America/Los_Angeles:20260121T180000
DTEND;TZID=America/Los_Angeles:20260121T193000
DTSTAMP:20260422T194909
CREATED:20260105T190512Z
LAST-MODIFIED:20260111T052443Z
UID:10003973-1769018400-1769023800@unitypaloalto.org
SUMMARY:A Course in Miracles Weekly Zoom
DESCRIPTION:
URL:https://unitypaloalto.org/event/a-course-in-miracles-study-group-2/2026-01-21/
LOCATION:On Zoom
CATEGORIES:Activity
ATTACH;FMTTYPE=image/jpeg:https://unitypaloalto.org/wp-content/uploads/ACIM-Weekly-Meeting.jpg
END:VEVENT
BEGIN:VEVENT
DTSTART;TZID=America/Los_Angeles:20260125T090000
DTEND;TZID=America/Los_Angeles:20260125T093000
DTSTAMP:20260422T194909
CREATED:20221230T180943Z
LAST-MODIFIED:20250701T023037Z
UID:10001854-1769331600-1769333400@unitypaloalto.org
SUMMARY:Sunday Morning Meditation
DESCRIPTION:Begin your week centered\, focused\, and empowered at our Sunday Morning Meditation. \nJoin us in the UPA Learning Center or Register for the Zoom
URL:https://unitypaloalto.org/event/sunday-morning-meditation/2026-01-25/
LOCATION:At the UPA Learning Center & on Zoom\, Middlefield Road\, Palo Alto\, CA\, 94306\, United States
CATEGORIES:Activity
ATTACH;FMTTYPE=image/jpeg:https://unitypaloalto.org/wp-content/uploads/Meditation-1.jpg
GEO:37.4267118;-122.1182989
X-APPLE-STRUCTURED-LOCATION;VALUE=URI;X-ADDRESS=At the UPA Learning Center & on Zoom Middlefield Road Palo Alto CA 94306 United States;X-APPLE-RADIUS=500;X-TITLE=Middlefield Road:geo:-122.1182989,37.4267118
END:VEVENT
BEGIN:VEVENT
DTSTART;TZID=America/Los_Angeles:20260125T100000
DTEND;TZID=America/Los_Angeles:20260125T110000
DTSTAMP:20260422T194909
CREATED:20240104T192943Z
LAST-MODIFIED:20260311T212800Z
UID:10002429-1769335200-1769338800@unitypaloalto.org
SUMMARY:Sunday Celebration Service
DESCRIPTION:Fresh and modern spirituality\, speakers\, and music\nIn-person and on live stream \nSunday mornings are uplifting\, inspirational\, and fun! The forward-thinking\, practical spiritual messages you’ll hear on Sunday will help you with the real-life issues you face during the week. Celebrate with us on Sunday in person or at www.UnityPaloAlto.org/live. Catch up on a previous service at unitypaloalto.org/service-recordings.
URL:https://unitypaloalto.org/event/sunday-celebration-service/2026-01-25/
LOCATION:At Unity Palo Alto & Live Stream
CATEGORIES:service
ATTACH;FMTTYPE=image/jpeg:https://unitypaloalto.org/wp-content/uploads/Sunday-event.jpg
END:VEVENT
BEGIN:VEVENT
DTSTART;TZID=America/Los_Angeles:20260125T113000
DTEND;TZID=America/Los_Angeles:20260125T123000
DTSTAMP:20260422T194909
CREATED:20251224T002603Z
LAST-MODIFIED:20260109T200059Z
UID:10003966-1769340600-1769344200@unitypaloalto.org
SUMMARY:Bring Your Own Lunch Brunch
DESCRIPTION:On the Fourth Sunday of the month\, after the Sunday service \nOne hour | Ice Breakers | Topic suggestions | Seat Rotations \nMeet\, Greet\, Get to know more people better and in a fun way \n================================================= \nTHE PROGRAM\nBRING YOUR OWN LUNCH BRUNCH\nOpening Blessing: Rev John Riley \nICE BREAKER DU JOUR:\nWhat is your favorite time of the day and why? \nTOPICS DU JOUR:\nRound 1—Fixed-Every time\n5 Good Things from this morning / yesterday / this past week\nMy 3 Good Things…… \nRound 2—Changes- Every time\nFavorite food/drink……. The grand story\nThe best story about you experiencing this food or drink \nROTATION\nEvery other person raises their hand-They are the Movers.\nDon’t want to move—ask someone to swap with you \nKEEPING TIME\nStationary Table Ambassadors:\nKeep conversations on topic and moving \nRound 1: ½ Hour \nRound 2: ½ Hour \nI call ½ Hour Change\nSet Phone Timer
URL:https://unitypaloalto.org/event/bring-your-own-lunch-brunch-2-2/2026-01-25/
LOCATION:At Unity Palo Alto\, 3391 Middlefield Road\, Palo Alto\, CA\, 94306\, United States
CATEGORIES:Activity
ATTACH;FMTTYPE=image/png:https://unitypaloalto.org/wp-content/uploads/LunchBrunch.png
GEO:37.4269437;-122.118048
X-APPLE-STRUCTURED-LOCATION;VALUE=URI;X-ADDRESS=At Unity Palo Alto 3391 Middlefield Road Palo Alto CA 94306 United States;X-APPLE-RADIUS=500;X-TITLE=3391 Middlefield Road:geo:-122.118048,37.4269437
END:VEVENT
BEGIN:VEVENT
DTSTART;TZID=America/Los_Angeles:20260126T183000
DTEND;TZID=America/Los_Angeles:20260126T200000
DTSTAMP:20260422T194909
CREATED:20251216T160023Z
LAST-MODIFIED:20260109T054022Z
UID:10003435-1769452200-1769457600@unitypaloalto.org
SUMMARY:Board of Trustees Business Meeting
DESCRIPTION:Our Board of Trustees is a model for implementing Unity Principles at our Spiritual Center. Striving to put Spirit first\, we lead from a consciousness of abundance\, love\, and understanding. \nDuring the Business Meeting\, you have two opportunities to participate: at the beginning\, after the approval of the previous meeting’s minutes\, and towards the end\, after the action item review. \nRegister for the Zoom Meeting:\nhttps://us02web.zoom.us/meeting/register/FUNnVT2PQ3KtHhbnf9TTYQ \n 
URL:https://unitypaloalto.org/event/business-meeting-2026-01/
LOCATION:At the UPA Learning Center & on Zoom\, Middlefield Road\, Palo Alto\, CA\, 94306\, United States
CATEGORIES:Activity
ATTACH;FMTTYPE=image/jpeg:https://unitypaloalto.org/wp-content/uploads/Business400.jpg
GEO:37.4267118;-122.1182989
X-APPLE-STRUCTURED-LOCATION;VALUE=URI;X-ADDRESS=At the UPA Learning Center & on Zoom Middlefield Road Palo Alto CA 94306 United States;X-APPLE-RADIUS=500;X-TITLE=Middlefield Road:geo:-122.1182989,37.4267118
END:VEVENT
BEGIN:VEVENT
DTSTART;TZID=America/Los_Angeles:20260127T190000
DTEND;TZID=America/Los_Angeles:20260127T201500
DTSTAMP:20260422T194909
CREATED:20260120T193130Z
LAST-MODIFIED:20260416T143605Z
UID:10004716-1769540400-1769544900@unitypaloalto.org
SUMMARY:Tuesday Night Kundalini Yoga
DESCRIPTION:
URL:https://unitypaloalto.org/event/tuesday-night-yoga/2026-01-27/
LOCATION:At the UPA Fireside Room\, Middlefield Road\, Palo Alto\, CA\, 94306\, United States
CATEGORIES:Activity
ATTACH;FMTTYPE=image/png:https://unitypaloalto.org/wp-content/uploads/Yoga.png
GEO:37.4267118;-122.1182989
X-APPLE-STRUCTURED-LOCATION;VALUE=URI;X-ADDRESS=At the UPA Fireside Room Middlefield Road Palo Alto CA 94306 United States;X-APPLE-RADIUS=500;X-TITLE=Middlefield Road:geo:-122.1182989,37.4267118
END:VEVENT
BEGIN:VEVENT
DTSTART;TZID=America/Los_Angeles:20260128T180000
DTEND;TZID=America/Los_Angeles:20260128T193000
DTSTAMP:20260422T194909
CREATED:20260105T190512Z
LAST-MODIFIED:20260111T052443Z
UID:10003974-1769623200-1769628600@unitypaloalto.org
SUMMARY:A Course in Miracles Weekly Zoom
DESCRIPTION:
URL:https://unitypaloalto.org/event/a-course-in-miracles-study-group-2/2026-01-28/
LOCATION:On Zoom
CATEGORIES:Activity
ATTACH;FMTTYPE=image/jpeg:https://unitypaloalto.org/wp-content/uploads/ACIM-Weekly-Meeting.jpg
END:VEVENT
BEGIN:VEVENT
DTSTART;TZID=America/Los_Angeles:20260201T090000
DTEND;TZID=America/Los_Angeles:20260201T093000
DTSTAMP:20260422T194909
CREATED:20221230T180943Z
LAST-MODIFIED:20250701T023037Z
UID:10001855-1769936400-1769938200@unitypaloalto.org
SUMMARY:Sunday Morning Meditation
DESCRIPTION:Begin your week centered\, focused\, and empowered at our Sunday Morning Meditation. \nJoin us in the UPA Learning Center or Register for the Zoom
URL:https://unitypaloalto.org/event/sunday-morning-meditation/2026-02-01/
LOCATION:At the UPA Learning Center & on Zoom\, Middlefield Road\, Palo Alto\, CA\, 94306\, United States
CATEGORIES:Activity
ATTACH;FMTTYPE=image/jpeg:https://unitypaloalto.org/wp-content/uploads/Meditation-1.jpg
GEO:37.4267118;-122.1182989
X-APPLE-STRUCTURED-LOCATION;VALUE=URI;X-ADDRESS=At the UPA Learning Center & on Zoom Middlefield Road Palo Alto CA 94306 United States;X-APPLE-RADIUS=500;X-TITLE=Middlefield Road:geo:-122.1182989,37.4267118
END:VEVENT
BEGIN:VEVENT
DTSTART;TZID=America/Los_Angeles:20260201T100000
DTEND;TZID=America/Los_Angeles:20260201T110000
DTSTAMP:20260422T194909
CREATED:20240104T192943Z
LAST-MODIFIED:20260311T212800Z
UID:10002430-1769940000-1769943600@unitypaloalto.org
SUMMARY:Sunday Celebration Service
DESCRIPTION:Fresh and modern spirituality\, speakers\, and music\nIn-person and on live stream \nSunday mornings are uplifting\, inspirational\, and fun! The forward-thinking\, practical spiritual messages you’ll hear on Sunday will help you with the real-life issues you face during the week. Celebrate with us on Sunday in person or at www.UnityPaloAlto.org/live. Catch up on a previous service at unitypaloalto.org/service-recordings.
URL:https://unitypaloalto.org/event/sunday-celebration-service/2026-02-01/
LOCATION:At Unity Palo Alto & Live Stream
CATEGORIES:service
ATTACH;FMTTYPE=image/jpeg:https://unitypaloalto.org/wp-content/uploads/Sunday-event.jpg
END:VEVENT
BEGIN:VEVENT
DTSTART;TZID=America/Los_Angeles:20260201T113000
DTEND;TZID=America/Los_Angeles:20260201T130000
DTSTAMP:20260422T194909
CREATED:20260108T051025Z
LAST-MODIFIED:20260113T015542Z
UID:10004524-1769945400-1769950800@unitypaloalto.org
SUMMARY:A Course in Miracles Monthly Meeting
DESCRIPTION:
URL:https://unitypaloalto.org/event/a-course-in-miracles-monthly/2026-02-01/
LOCATION:At the UPA Learning Center & on Zoom\, Middlefield Road\, Palo Alto\, CA\, 94306\, United States
CATEGORIES:Activity
ATTACH;FMTTYPE=image/jpeg:https://unitypaloalto.org/wp-content/uploads/ACIM-Monthly-Meeting.jpg
GEO:37.4267118;-122.1182989
X-APPLE-STRUCTURED-LOCATION;VALUE=URI;X-ADDRESS=At the UPA Learning Center & on Zoom Middlefield Road Palo Alto CA 94306 United States;X-APPLE-RADIUS=500;X-TITLE=Middlefield Road:geo:-122.1182989,37.4267118
END:VEVENT
BEGIN:VEVENT
DTSTART;TZID=America/Los_Angeles:20260203T190000
DTEND;TZID=America/Los_Angeles:20260203T201500
DTSTAMP:20260422T194909
CREATED:20260120T193130Z
LAST-MODIFIED:20260416T143605Z
UID:10004717-1770145200-1770149700@unitypaloalto.org
SUMMARY:Tuesday Night Kundalini Yoga
DESCRIPTION:
URL:https://unitypaloalto.org/event/tuesday-night-yoga/2026-02-03/
LOCATION:At the UPA Fireside Room\, Middlefield Road\, Palo Alto\, CA\, 94306\, United States
CATEGORIES:Activity
ATTACH;FMTTYPE=image/png:https://unitypaloalto.org/wp-content/uploads/Yoga.png
GEO:37.4267118;-122.1182989
X-APPLE-STRUCTURED-LOCATION;VALUE=URI;X-ADDRESS=At the UPA Fireside Room Middlefield Road Palo Alto CA 94306 United States;X-APPLE-RADIUS=500;X-TITLE=Middlefield Road:geo:-122.1182989,37.4267118
END:VEVENT
BEGIN:VEVENT
DTSTART;TZID=America/Los_Angeles:20260204T180000
DTEND;TZID=America/Los_Angeles:20260204T193000
DTSTAMP:20260422T194909
CREATED:20260105T190512Z
LAST-MODIFIED:20260111T052443Z
UID:10003975-1770228000-1770233400@unitypaloalto.org
SUMMARY:A Course in Miracles Weekly Zoom
DESCRIPTION:
URL:https://unitypaloalto.org/event/a-course-in-miracles-study-group-2/2026-02-04/
LOCATION:On Zoom
CATEGORIES:Activity
ATTACH;FMTTYPE=image/jpeg:https://unitypaloalto.org/wp-content/uploads/ACIM-Weekly-Meeting.jpg
END:VEVENT
BEGIN:VEVENT
DTSTART;TZID=America/Los_Angeles:20260208T090000
DTEND;TZID=America/Los_Angeles:20260208T093000
DTSTAMP:20260422T194909
CREATED:20221230T180943Z
LAST-MODIFIED:20250701T023037Z
UID:10001856-1770541200-1770543000@unitypaloalto.org
SUMMARY:Sunday Morning Meditation
DESCRIPTION:Begin your week centered\, focused\, and empowered at our Sunday Morning Meditation. \nJoin us in the UPA Learning Center or Register for the Zoom
URL:https://unitypaloalto.org/event/sunday-morning-meditation/2026-02-08/
LOCATION:At the UPA Learning Center & on Zoom\, Middlefield Road\, Palo Alto\, CA\, 94306\, United States
CATEGORIES:Activity
ATTACH;FMTTYPE=image/jpeg:https://unitypaloalto.org/wp-content/uploads/Meditation-1.jpg
GEO:37.4267118;-122.1182989
X-APPLE-STRUCTURED-LOCATION;VALUE=URI;X-ADDRESS=At the UPA Learning Center & on Zoom Middlefield Road Palo Alto CA 94306 United States;X-APPLE-RADIUS=500;X-TITLE=Middlefield Road:geo:-122.1182989,37.4267118
END:VEVENT
BEGIN:VEVENT
DTSTART;TZID=America/Los_Angeles:20260208T100000
DTEND;TZID=America/Los_Angeles:20260208T110000
DTSTAMP:20260422T194909
CREATED:20240104T192943Z
LAST-MODIFIED:20260311T212800Z
UID:10002431-1770544800-1770548400@unitypaloalto.org
SUMMARY:Sunday Celebration Service
DESCRIPTION:Fresh and modern spirituality\, speakers\, and music\nIn-person and on live stream \nSunday mornings are uplifting\, inspirational\, and fun! The forward-thinking\, practical spiritual messages you’ll hear on Sunday will help you with the real-life issues you face during the week. Celebrate with us on Sunday in person or at www.UnityPaloAlto.org/live. Catch up on a previous service at unitypaloalto.org/service-recordings.
URL:https://unitypaloalto.org/event/sunday-celebration-service/2026-02-08/
LOCATION:At Unity Palo Alto & Live Stream
CATEGORIES:service
ATTACH;FMTTYPE=image/jpeg:https://unitypaloalto.org/wp-content/uploads/Sunday-event.jpg
END:VEVENT
BEGIN:VEVENT
DTSTART;TZID=America/Los_Angeles:20260208T120000
DTEND;TZID=America/Los_Angeles:20260208T160000
DTSTAMP:20260422T194909
CREATED:20260111T013833Z
LAST-MODIFIED:20260113T202727Z
UID:10004635-1770552000-1770566400@unitypaloalto.org
SUMMARY:LBS - 110 | Life Between 60 & 110
DESCRIPTION:🌻 A workshop for women between 60 and 110 — or those who plan to be someday 🌻\nDate: February 8\, 2026\nTime: 12pm-4:00pm\nLocation: Unity Palo Alto YES Hall \nPatricia Gill-Thielen and PJ Foy have developed this rich\, empowering workshop that will guide you to live as a woman of stature\, carry yourself with grace\, and cultivate your own presence. \nDuring the immersive program\, you will design the experience that you want to have\nduring in this phase of life. Through creative imagination\, self-reflection\, and bold\nexperience\, your will purposefully create who you want to be until 110. \nWhat to bring: We ask that you come with a fully charged smartphone\, some fun accessories\, and an open mind. If you don’t have a smart phone\, we’ll take care of you! \nMore details to come once you register. \nRegister now – the workshop is designed for 6-12 women.
URL:https://unitypaloalto.org/event/lbs110-life-between-60-110/
LOCATION:At the UPA YES Hall\, 3391 Middlefield Road\, Palo Alto\, 94306\, United States
CATEGORIES:Activity,home-feature,Women's Group
ATTACH;FMTTYPE=image/jpeg:https://unitypaloalto.org/wp-content/uploads/lbs110.jpg
GEO:37.4267118;-122.1182989
X-APPLE-STRUCTURED-LOCATION;VALUE=URI;X-ADDRESS=At the UPA YES Hall 3391 Middlefield Road Palo Alto 94306 United States;X-APPLE-RADIUS=500;X-TITLE=3391 Middlefield Road:geo:-122.1182989,37.4267118
END:VEVENT
BEGIN:VEVENT
DTSTART;TZID=America/Los_Angeles:20260210T190000
DTEND;TZID=America/Los_Angeles:20260210T201500
DTSTAMP:20260422T194909
CREATED:20260120T193130Z
LAST-MODIFIED:20260416T143605Z
UID:10004718-1770750000-1770754500@unitypaloalto.org
SUMMARY:Tuesday Night Kundalini Yoga
DESCRIPTION:
URL:https://unitypaloalto.org/event/tuesday-night-yoga/2026-02-10/
LOCATION:At the UPA Fireside Room\, Middlefield Road\, Palo Alto\, CA\, 94306\, United States
CATEGORIES:Activity
ATTACH;FMTTYPE=image/png:https://unitypaloalto.org/wp-content/uploads/Yoga.png
GEO:37.4267118;-122.1182989
X-APPLE-STRUCTURED-LOCATION;VALUE=URI;X-ADDRESS=At the UPA Fireside Room Middlefield Road Palo Alto CA 94306 United States;X-APPLE-RADIUS=500;X-TITLE=Middlefield Road:geo:-122.1182989,37.4267118
END:VEVENT
BEGIN:VEVENT
DTSTART;TZID=America/Los_Angeles:20260211T180000
DTEND;TZID=America/Los_Angeles:20260211T193000
DTSTAMP:20260422T194909
CREATED:20260105T190512Z
LAST-MODIFIED:20260111T052443Z
UID:10003976-1770832800-1770838200@unitypaloalto.org
SUMMARY:A Course in Miracles Weekly Zoom
DESCRIPTION:
URL:https://unitypaloalto.org/event/a-course-in-miracles-study-group-2/2026-02-11/
LOCATION:On Zoom
CATEGORIES:Activity
ATTACH;FMTTYPE=image/jpeg:https://unitypaloalto.org/wp-content/uploads/ACIM-Weekly-Meeting.jpg
END:VEVENT
BEGIN:VEVENT
DTSTART;TZID=America/Los_Angeles:20260214T103000
DTEND;TZID=America/Los_Angeles:20260214T103000
DTSTAMP:20260422T194909
CREATED:20260112T044207Z
LAST-MODIFIED:20260130T041353Z
UID:10004714-1771065000-1771065000@unitypaloalto.org
SUMMARY:Women's Walking Group
DESCRIPTION:DATE: Saturday\, February 14\nTIME: 10:30 AM – 1:30 PM\nFEBRUARY TRAIL: Devil’s Slide Trail \nRegistration required — sign up using the form below! \nDevil’s Slide Trail is a beautiful 1.3-mile paved multi-use path perched high on the cliffs between Pacifica and Montara. There are benches along the way to pause and enjoy the views. The maximum distance is 2.6 miles — you can make it as short or as long as feels right for you. \n \nInterpretive signs are placed at key points along the trail and describe the history\, geography and the marine and avian communities that live and migrate here.  Devil’s Slide Trail is a segment of the California Coastal Trail\, a trail that\, when finished\, will extend 1\,200 miles from Oregon to Mexico\, connecting travelers to California’s varied oceanside landscapes! \n﻿﻿﻿
URL:https://unitypaloalto.org/event/womens-walking-group/
CATEGORIES:Activity,Women's Group
ATTACH;FMTTYPE=image/jpeg:https://unitypaloalto.org/wp-content/uploads/Slides-for-Services-1-e1768190871723.jpg
END:VEVENT
BEGIN:VEVENT
DTSTART;TZID=America/Los_Angeles:20260215T090000
DTEND;TZID=America/Los_Angeles:20260215T093000
DTSTAMP:20260422T194909
CREATED:20221230T180943Z
LAST-MODIFIED:20250701T023037Z
UID:10001857-1771146000-1771147800@unitypaloalto.org
SUMMARY:Sunday Morning Meditation
DESCRIPTION:Begin your week centered\, focused\, and empowered at our Sunday Morning Meditation. \nJoin us in the UPA Learning Center or Register for the Zoom
URL:https://unitypaloalto.org/event/sunday-morning-meditation/2026-02-15/
LOCATION:At the UPA Learning Center & on Zoom\, Middlefield Road\, Palo Alto\, CA\, 94306\, United States
CATEGORIES:Activity
ATTACH;FMTTYPE=image/jpeg:https://unitypaloalto.org/wp-content/uploads/Meditation-1.jpg
GEO:37.4267118;-122.1182989
X-APPLE-STRUCTURED-LOCATION;VALUE=URI;X-ADDRESS=At the UPA Learning Center & on Zoom Middlefield Road Palo Alto CA 94306 United States;X-APPLE-RADIUS=500;X-TITLE=Middlefield Road:geo:-122.1182989,37.4267118
END:VEVENT
BEGIN:VEVENT
DTSTART;TZID=America/Los_Angeles:20260215T100000
DTEND;TZID=America/Los_Angeles:20260215T110000
DTSTAMP:20260422T194909
CREATED:20240104T192943Z
LAST-MODIFIED:20260311T212800Z
UID:10002432-1771149600-1771153200@unitypaloalto.org
SUMMARY:Sunday Celebration Service
DESCRIPTION:Fresh and modern spirituality\, speakers\, and music\nIn-person and on live stream \nSunday mornings are uplifting\, inspirational\, and fun! The forward-thinking\, practical spiritual messages you’ll hear on Sunday will help you with the real-life issues you face during the week. Celebrate with us on Sunday in person or at www.UnityPaloAlto.org/live. Catch up on a previous service at unitypaloalto.org/service-recordings.
URL:https://unitypaloalto.org/event/sunday-celebration-service/2026-02-15/
LOCATION:At Unity Palo Alto & Live Stream
CATEGORIES:service
ATTACH;FMTTYPE=image/jpeg:https://unitypaloalto.org/wp-content/uploads/Sunday-event.jpg
END:VEVENT
BEGIN:VEVENT
DTSTART;TZID=America/Los_Angeles:20260215T113000
DTEND;TZID=America/Los_Angeles:20260215T133000
DTSTAMP:20260422T194909
CREATED:20260128T154932Z
LAST-MODIFIED:20260130T220302Z
UID:10004541-1771155000-1771162200@unitypaloalto.org
SUMMARY:Women's Group Valentine's Party & Accessory Swap
DESCRIPTION:
URL:https://unitypaloalto.org/event/unity-womens-group-2026-2/
LOCATION:At the UPA YES Hall & on Zoom
CATEGORIES:Activity,home-feature,Women's Group
ATTACH;FMTTYPE=image/jpeg:https://unitypaloalto.org/wp-content/uploads/Slides-for-Services-2-copy.jpeg
END:VEVENT
BEGIN:VEVENT
DTSTART;TZID=America/Los_Angeles:20260217T190000
DTEND;TZID=America/Los_Angeles:20260217T201500
DTSTAMP:20260422T194909
CREATED:20260120T193130Z
LAST-MODIFIED:20260416T143605Z
UID:10004719-1771354800-1771359300@unitypaloalto.org
SUMMARY:Tuesday Night Kundalini Yoga
DESCRIPTION:
URL:https://unitypaloalto.org/event/tuesday-night-yoga/2026-02-17/
LOCATION:At the UPA Fireside Room\, Middlefield Road\, Palo Alto\, CA\, 94306\, United States
CATEGORIES:Activity
ATTACH;FMTTYPE=image/png:https://unitypaloalto.org/wp-content/uploads/Yoga.png
GEO:37.4267118;-122.1182989
X-APPLE-STRUCTURED-LOCATION;VALUE=URI;X-ADDRESS=At the UPA Fireside Room Middlefield Road Palo Alto CA 94306 United States;X-APPLE-RADIUS=500;X-TITLE=Middlefield Road:geo:-122.1182989,37.4267118
END:VEVENT
BEGIN:VEVENT
DTSTART;TZID=America/Los_Angeles:20260218T180000
DTEND;TZID=America/Los_Angeles:20260218T193000
DTSTAMP:20260422T194909
CREATED:20260105T190512Z
LAST-MODIFIED:20260111T052443Z
UID:10003977-1771437600-1771443000@unitypaloalto.org
SUMMARY:A Course in Miracles Weekly Zoom
DESCRIPTION:
URL:https://unitypaloalto.org/event/a-course-in-miracles-study-group-2/2026-02-18/
LOCATION:On Zoom
CATEGORIES:Activity
ATTACH;FMTTYPE=image/jpeg:https://unitypaloalto.org/wp-content/uploads/ACIM-Weekly-Meeting.jpg
END:VEVENT
BEGIN:VEVENT
DTSTART;TZID=America/Los_Angeles:20260222T090000
DTEND;TZID=America/Los_Angeles:20260222T093000
DTSTAMP:20260422T194909
CREATED:20221230T180943Z
LAST-MODIFIED:20250701T023037Z
UID:10001858-1771750800-1771752600@unitypaloalto.org
SUMMARY:Sunday Morning Meditation
DESCRIPTION:Begin your week centered\, focused\, and empowered at our Sunday Morning Meditation. \nJoin us in the UPA Learning Center or Register for the Zoom
URL:https://unitypaloalto.org/event/sunday-morning-meditation/2026-02-22/
LOCATION:At the UPA Learning Center & on Zoom\, Middlefield Road\, Palo Alto\, CA\, 94306\, United States
CATEGORIES:Activity
ATTACH;FMTTYPE=image/jpeg:https://unitypaloalto.org/wp-content/uploads/Meditation-1.jpg
GEO:37.4267118;-122.1182989
X-APPLE-STRUCTURED-LOCATION;VALUE=URI;X-ADDRESS=At the UPA Learning Center & on Zoom Middlefield Road Palo Alto CA 94306 United States;X-APPLE-RADIUS=500;X-TITLE=Middlefield Road:geo:-122.1182989,37.4267118
END:VEVENT
BEGIN:VEVENT
DTSTART;TZID=America/Los_Angeles:20260222T100000
DTEND;TZID=America/Los_Angeles:20260222T110000
DTSTAMP:20260422T194909
CREATED:20240104T192943Z
LAST-MODIFIED:20260311T212800Z
UID:10002433-1771754400-1771758000@unitypaloalto.org
SUMMARY:Sunday Celebration Service
DESCRIPTION:Fresh and modern spirituality\, speakers\, and music\nIn-person and on live stream \nSunday mornings are uplifting\, inspirational\, and fun! The forward-thinking\, practical spiritual messages you’ll hear on Sunday will help you with the real-life issues you face during the week. Celebrate with us on Sunday in person or at www.UnityPaloAlto.org/live. Catch up on a previous service at unitypaloalto.org/service-recordings.
URL:https://unitypaloalto.org/event/sunday-celebration-service/2026-02-22/
LOCATION:At Unity Palo Alto & Live Stream
CATEGORIES:service
ATTACH;FMTTYPE=image/jpeg:https://unitypaloalto.org/wp-content/uploads/Sunday-event.jpg
END:VEVENT
END:VCALENDAR